BEGIN:VCALENDAR
VERSION:2.0
PRODID:-//Club Deportivo Alemán - ECPv6.15.20//NONSGML v1.0//EN
CALSCALE:GREGORIAN
METHOD:PUBLISH
X-ORIGINAL-URL:https://deportivoaleman.cl
X-WR-CALDESC:Eventos para Club Deportivo Alemán
REFRESH-INTERVAL;VALUE=DURATION:PT1H
X-Robots-Tag:noindex
X-PUBLISHED-TTL:PT1H
BEGIN:VTIMEZONE
TZID:America/Santiago
BEGIN:STANDARD
TZOFFSETFROM:-0300
TZOFFSETTO:-0400
TZNAME:-04
DTSTART:20240407T030000
END:STANDARD
BEGIN:DAYLIGHT
TZOFFSETFROM:-0400
TZOFFSETTO:-0300
TZNAME:-03
DTSTART:20240908T040000
END:DAYLIGHT
BEGIN:STANDARD
TZOFFSETFROM:-0300
TZOFFSETTO:-0400
TZNAME:-04
DTSTART:20250406T030000
END:STANDARD
BEGIN:DAYLIGHT
TZOFFSETFROM:-0400
TZOFFSETTO:-0300
TZNAME:-03
DTSTART:20250907T040000
END:DAYLIGHT
BEGIN:STANDARD
TZOFFSETFROM:-0300
TZOFFSETTO:-0400
TZNAME:-04
DTSTART:20260405T030000
END:STANDARD
BEGIN:DAYLIGHT
TZOFFSETFROM:-0400
TZOFFSETTO:-0300
TZNAME:-03
DTSTART:20260906T040000
END:DAYLIGHT
END:VTIMEZONE
BEGIN:VEVENT
DTSTART;TZID=America/Santiago:20250510T103000
DTEND;TZID=America/Santiago:20250510T133000
DTSTAMP:20260421T091659
CREATED:20250505T150401Z
LAST-MODIFIED:20250505T150401Z
UID:60806-1746873000-1746883800@deportivoaleman.cl
SUMMARY:MUTTERTAG | CELEBRACIÓN DÍA DE LA MADRE
DESCRIPTION:
URL:https://deportivoaleman.cl/evento/muttertag-celebracion-dia-de-la-madre/
CATEGORIES:Corporativo,Mundo Socios,Spa
END:VEVENT
BEGIN:VEVENT
DTSTART;TZID=America/Santiago:20250527T190000
DTEND;TZID=America/Santiago:20250527T210000
DTSTAMP:20260421T091659
CREATED:20250513T181236Z
LAST-MODIFIED:20250513T181236Z
UID:60850-1748372400-1748379600@deportivoaleman.cl
SUMMARY:ASAMBLEA ORDINARIA DE SOCIOS 2025
DESCRIPTION:
URL:https://deportivoaleman.cl/evento/asamblea-ordinaria-de-socios-2025/
CATEGORIES:Corporativo
END:VEVENT
BEGIN:VEVENT
DTSTART;TZID=America/Santiago:20250528T200000
DTEND;TZID=America/Santiago:20250528T210000
DTSTAMP:20260421T091659
CREATED:20250528T150407Z
LAST-MODIFIED:20250528T150407Z
UID:60993-1748462400-1748466000@deportivoaleman.cl
SUMMARY:HOCKEY | ASAMBLEA EXTRAORDINARIA EN CABAÑA 9
DESCRIPTION:
URL:https://deportivoaleman.cl/evento/hockey-asamblea-extraordinaria-en-cabana-9/
CATEGORIES:Hockey
END:VEVENT
BEGIN:VEVENT
DTSTART;TZID=America/Santiago:20250529T110000
DTEND;TZID=America/Santiago:20250529T160000
DTSTAMP:20260421T091659
CREATED:20250527T145301Z
LAST-MODIFIED:20250527T145344Z
UID:60985-1748516400-1748534400@deportivoaleman.cl
SUMMARY:MANTENCIÓN | TRABAJOS DE ILUMINACIÓN EN MUSCULACIÓN
DESCRIPTION:
URL:https://deportivoaleman.cl/evento/mantenicion-trabajos-de-iluminacion-en-musculacion/
CATEGORIES:Fitness,Sala de Musculación
END:VEVENT
END:VCALENDAR