BEGIN:VCALENDAR
VERSION:2.0
PRODID:-//Club Deportivo Alemán - ECPv6.15.20//NONSGML v1.0//EN
CALSCALE:GREGORIAN
METHOD:PUBLISH
X-ORIGINAL-URL:https://deportivoaleman.cl
X-WR-CALDESC:Eventos para Club Deportivo Alemán
REFRESH-INTERVAL;VALUE=DURATION:PT1H
X-Robots-Tag:noindex
X-PUBLISHED-TTL:PT1H
BEGIN:VTIMEZONE
TZID:America/Santiago
BEGIN:STANDARD
TZOFFSETFROM:-0300
TZOFFSETTO:-0400
TZNAME:-04
DTSTART:20240407T030000
END:STANDARD
BEGIN:DAYLIGHT
TZOFFSETFROM:-0400
TZOFFSETTO:-0300
TZNAME:-03
DTSTART:20240908T040000
END:DAYLIGHT
BEGIN:STANDARD
TZOFFSETFROM:-0300
TZOFFSETTO:-0400
TZNAME:-04
DTSTART:20250406T030000
END:STANDARD
BEGIN:DAYLIGHT
TZOFFSETFROM:-0400
TZOFFSETTO:-0300
TZNAME:-03
DTSTART:20250907T040000
END:DAYLIGHT
BEGIN:STANDARD
TZOFFSETFROM:-0300
TZOFFSETTO:-0400
TZNAME:-04
DTSTART:20260405T030000
END:STANDARD
BEGIN:DAYLIGHT
TZOFFSETFROM:-0400
TZOFFSETTO:-0300
TZNAME:-03
DTSTART:20260906T040000
END:DAYLIGHT
END:VTIMEZONE
BEGIN:VEVENT
DTSTART;TZID=America/Santiago:20250305T190000
DTEND;TZID=America/Santiago:20250305T210000
DTSTAMP:20260421T124636
CREATED:20250224T154626Z
LAST-MODIFIED:20250224T154626Z
UID:59999-1741201200-1741208400@deportivoaleman.cl
SUMMARY:FRAUENTAG | TALLER DE COLORIMETRÍA
DESCRIPTION:
URL:https://deportivoaleman.cl/evento/frauentag-taller-de-colorimetria/
CATEGORIES:Corporativo,Mundo Socios
END:VEVENT
BEGIN:VEVENT
DTSTART;TZID=America/Santiago:20250307T080000
DTEND;TZID=America/Santiago:20250309T170000
DTSTAMP:20260421T124636
CREATED:20250305T212309Z
LAST-MODIFIED:20250305T212309Z
UID:60169-1741334400-1741539600@deportivoaleman.cl
SUMMARY:HOCKEY | TORNEO HOCKEY MASTER
DESCRIPTION:
URL:https://deportivoaleman.cl/evento/hockey-torneo-hockey-master/
CATEGORIES:Hockey
END:VEVENT
BEGIN:VEVENT
DTSTART;TZID=America/Santiago:20250308T090000
DTEND;TZID=America/Santiago:20250308T140000
DTSTAMP:20260421T124636
CREATED:20250224T155201Z
LAST-MODIFIED:20250224T155201Z
UID:60001-1741424400-1741442400@deportivoaleman.cl
SUMMARY:FITNESS | ZUMBA Y SUP FAMILIAR EN LA LAGUNA
DESCRIPTION:
URL:https://deportivoaleman.cl/evento/fitness-zumba-y-sup-familiar-en-la-laguna/
CATEGORIES:Corporativo,Mundo Socios
END:VEVENT
BEGIN:VEVENT
DTSTART;TZID=America/Santiago:20250312T200000
DTEND;TZID=America/Santiago:20250312T220000
DTSTAMP:20260421T124636
CREATED:20250311T214015Z
LAST-MODIFIED:20250311T214015Z
UID:60208-1741809600-1741816800@deportivoaleman.cl
SUMMARY:CLUBHAUS | CATA DE VINOS
DESCRIPTION:
URL:https://deportivoaleman.cl/evento/clubhaus-cata-de-vinos/
CATEGORIES:Corporativo,Mundo Socios
END:VEVENT
BEGIN:VEVENT
DTSTART;TZID=America/Santiago:20250313T080000
DTEND;TZID=America/Santiago:20250316T220000
DTSTAMP:20260421T124636
CREATED:20250225T153213Z
LAST-MODIFIED:20250225T153213Z
UID:60061-1741852800-1742162400@deportivoaleman.cl
SUMMARY:VOLEIBOL | COPA ALEMANIA 2025
DESCRIPTION:
URL:https://deportivoaleman.cl/evento/voleibol-copa-alemania-2025/
CATEGORIES:Vóleibol
END:VEVENT
BEGIN:VEVENT
DTSTART;TZID=America/Santiago:20250315T170000
DTEND;TZID=America/Santiago:20250315T230000
DTSTAMP:20260421T124636
CREATED:20250311T214531Z
LAST-MODIFIED:20250311T214531Z
UID:60210-1742058000-1742079600@deportivoaleman.cl
SUMMARY:SUNSET VICTORIA 2025
DESCRIPTION:
URL:https://deportivoaleman.cl/evento/sunset-victoria-2025/
CATEGORIES:Corporativo,Mundo Socios
END:VEVENT
BEGIN:VEVENT
DTSTART;TZID=America/Santiago:20250321T080000
DTEND;TZID=America/Santiago:20250323T230000
DTSTAMP:20260421T124636
CREATED:20250318T210040Z
LAST-MODIFIED:20250318T211443Z
UID:60311-1742544000-1742770800@deportivoaleman.cl
SUMMARY:VOLEIBOL | LNAME EN CDA
DESCRIPTION:
URL:https://deportivoaleman.cl/evento/voleibol-liga-nacional-de-menores-2/
CATEGORIES:Vóleibol
END:VEVENT
BEGIN:VEVENT
DTSTART;TZID=America/Santiago:20250322T100000
DTEND;TZID=America/Santiago:20250322T170000
DTSTAMP:20260421T124636
CREATED:20250318T211314Z
LAST-MODIFIED:20250318T211314Z
UID:60317-1742637600-1742662800@deportivoaleman.cl
SUMMARY:BASQUETBOL | LIGA PRO FEM EN CDA
DESCRIPTION:
URL:https://deportivoaleman.cl/evento/basquetbol-liga-pro-fem-en-cda/
CATEGORIES:Básquetbol
END:VEVENT
BEGIN:VEVENT
DTSTART;TZID=America/Santiago:20250323T100000
DTEND;TZID=America/Santiago:20250323T170000
DTSTAMP:20260421T124636
CREATED:20250318T210457Z
LAST-MODIFIED:20250318T210457Z
UID:60314-1742724000-1742749200@deportivoaleman.cl
SUMMARY:HOCKEY | TORNEO NACIONAL EN CDA
DESCRIPTION:
URL:https://deportivoaleman.cl/evento/hockey-torneo-nacional-en-cda-4/
CATEGORIES:Hockey
END:VEVENT
END:VCALENDAR