BEGIN:VCALENDAR
VERSION:2.0
PRODID:-//Club Deportivo Alemán - ECPv6.15.20//NONSGML v1.0//EN
CALSCALE:GREGORIAN
METHOD:PUBLISH
X-ORIGINAL-URL:https://deportivoaleman.cl
X-WR-CALDESC:Eventos para Club Deportivo Alemán
REFRESH-INTERVAL;VALUE=DURATION:PT1H
X-Robots-Tag:noindex
X-PUBLISHED-TTL:PT1H
BEGIN:VTIMEZONE
TZID:America/Santiago
BEGIN:STANDARD
TZOFFSETFROM:-0300
TZOFFSETTO:-0400
TZNAME:-04
DTSTART:20230402T030000
END:STANDARD
BEGIN:DAYLIGHT
TZOFFSETFROM:-0400
TZOFFSETTO:-0300
TZNAME:-03
DTSTART:20230903T040000
END:DAYLIGHT
BEGIN:STANDARD
TZOFFSETFROM:-0300
TZOFFSETTO:-0400
TZNAME:-04
DTSTART:20240407T030000
END:STANDARD
BEGIN:DAYLIGHT
TZOFFSETFROM:-0400
TZOFFSETTO:-0300
TZNAME:-03
DTSTART:20240908T040000
END:DAYLIGHT
BEGIN:STANDARD
TZOFFSETFROM:-0300
TZOFFSETTO:-0400
TZNAME:-04
DTSTART:20250406T030000
END:STANDARD
BEGIN:DAYLIGHT
TZOFFSETFROM:-0400
TZOFFSETTO:-0300
TZNAME:-03
DTSTART:20250907T040000
END:DAYLIGHT
END:VTIMEZONE
BEGIN:VEVENT
DTSTART;TZID=America/Santiago:20240907T110000
DTEND;TZID=America/Santiago:20240907T160000
DTSTAMP:20260423T080319
CREATED:20240826T221342Z
LAST-MODIFIED:20240826T221342Z
UID:57204-1725706800-1725724800@deportivoaleman.cl
SUMMARY:FIESTA CRIOLLA FAMILIAR
DESCRIPTION:
URL:https://deportivoaleman.cl/evento/fiesta-criolla-familiar/
CATEGORIES:Corporativo,Mundo Socios
END:VEVENT
BEGIN:VEVENT
DTSTART;TZID=America/Santiago:20240928T120000
DTEND;TZID=America/Santiago:20240928T130000
DTSTAMP:20260423T080319
CREATED:20240902T215710Z
LAST-MODIFIED:20240902T215710Z
UID:57240-1727524800-1727528400@deportivoaleman.cl
SUMMARY:ADULTO MAYOR | MUESTRA FOLCLÓRICA
DESCRIPTION:
URL:https://deportivoaleman.cl/evento/adulto-mayor-muestra-folclorica/
CATEGORIES:Acondicionamiento Físico Adulto Mayor,Corporativo,Mundo Socios
END:VEVENT
END:VCALENDAR