BEGIN:VCALENDAR
VERSION:2.0
PRODID:-//Club Deportivo Alemán - ECPv6.15.20//NONSGML v1.0//EN
CALSCALE:GREGORIAN
METHOD:PUBLISH
X-ORIGINAL-URL:https://deportivoaleman.cl
X-WR-CALDESC:Eventos para Club Deportivo Alemán
REFRESH-INTERVAL;VALUE=DURATION:PT1H
X-Robots-Tag:noindex
X-PUBLISHED-TTL:PT1H
BEGIN:VTIMEZONE
TZID:America/Santiago
BEGIN:STANDARD
TZOFFSETFROM:-0300
TZOFFSETTO:-0400
TZNAME:-04
DTSTART:20230402T030000
END:STANDARD
BEGIN:DAYLIGHT
TZOFFSETFROM:-0400
TZOFFSETTO:-0300
TZNAME:-03
DTSTART:20230903T040000
END:DAYLIGHT
BEGIN:STANDARD
TZOFFSETFROM:-0300
TZOFFSETTO:-0400
TZNAME:-04
DTSTART:20240407T030000
END:STANDARD
BEGIN:DAYLIGHT
TZOFFSETFROM:-0400
TZOFFSETTO:-0300
TZNAME:-03
DTSTART:20240908T040000
END:DAYLIGHT
BEGIN:STANDARD
TZOFFSETFROM:-0300
TZOFFSETTO:-0400
TZNAME:-04
DTSTART:20250406T030000
END:STANDARD
BEGIN:DAYLIGHT
TZOFFSETFROM:-0400
TZOFFSETTO:-0300
TZNAME:-03
DTSTART:20250907T040000
END:DAYLIGHT
END:VTIMEZONE
BEGIN:VEVENT
DTSTART;TZID=America/Santiago:20240704T090000
DTEND;TZID=America/Santiago:20240707T210000
DTSTAMP:20260423T110054
CREATED:20240703T143717Z
LAST-MODIFIED:20240703T143717Z
UID:56596-1720083600-1720386000@deportivoaleman.cl
SUMMARY:G. ARTÍSTICA | TORNEO ALEMÁN EN CDA
DESCRIPTION:
URL:https://deportivoaleman.cl/evento/g-artistica-torneo-aleman-en-cda/
CATEGORIES:Gimnasia Artística
END:VEVENT
BEGIN:VEVENT
DTSTART;TZID=America/Santiago:20240706T080000
DTEND;TZID=America/Santiago:20240707T230000
DTSTAMP:20260423T110054
CREATED:20240704T201447Z
LAST-MODIFIED:20240704T201447Z
UID:56639-1720252800-1720393200@deportivoaleman.cl
SUMMARY:G.RÍTMICA | CONTROL CLASIFICATORIO TORNEO NACIONAL EN VALDIVIA
DESCRIPTION:
URL:https://deportivoaleman.cl/evento/g-ritmica-control-clasificatorio-torneo-nacional-en-valdivia/
CATEGORIES:Gimnasia Rítmica
END:VEVENT
BEGIN:VEVENT
DTSTART;TZID=America/Santiago:20240706T090000
DTEND;TZID=America/Santiago:20240706T180000
DTSTAMP:20260423T110054
CREATED:20240704T201310Z
LAST-MODIFIED:20240704T201310Z
UID:56637-1720256400-1720288800@deportivoaleman.cl
SUMMARY:FÚTBOL | COPA INTEGRACIÓN EN CDA
DESCRIPTION:
URL:https://deportivoaleman.cl/evento/futbol-copa-integracion-en-cda/
CATEGORIES:Fútbol
END:VEVENT
BEGIN:VEVENT
DTSTART;TZID=America/Santiago:20240706T190000
DTEND;TZID=America/Santiago:20240706T210000
DTSTAMP:20260423T110054
CREATED:20240704T201606Z
LAST-MODIFIED:20240704T201606Z
UID:56641-1720292400-1720299600@deportivoaleman.cl
SUMMARY:BÁSQUETBOL | LNB2 EN SANTIAGO
DESCRIPTION:
URL:https://deportivoaleman.cl/evento/basquetbol-lnb2-en-santiago/
CATEGORIES:Básquetbol
END:VEVENT
BEGIN:VEVENT
DTSTART;TZID=America/Santiago:20240711T083000
DTEND;TZID=America/Santiago:20240716T220000
DTSTAMP:20260423T110054
CREATED:20240708T210840Z
LAST-MODIFIED:20240708T210840Z
UID:56692-1720686600-1721167200@deportivoaleman.cl
SUMMARY:BÁSQUETBOL | COPA ALEMANIA MENORES
DESCRIPTION:
URL:https://deportivoaleman.cl/evento/basquetbol-copa-alemania-menores/
CATEGORIES:Básquetbol
END:VEVENT
BEGIN:VEVENT
DTSTART;TZID=America/Santiago:20240720T080000
DTEND;TZID=America/Santiago:20240721T220000
DTSTAMP:20260423T110054
CREATED:20240718T183341Z
LAST-MODIFIED:20240718T183341Z
UID:56897-1721462400-1721599200@deportivoaleman.cl
SUMMARY:BÁSQUETBOL | LIGA NACIONAL DOS - EN VALPARAÍSO Y QUILPUE
DESCRIPTION:
URL:https://deportivoaleman.cl/evento/basquetbol-liga-nacional-dos-en-valparaiso-y-quilpue/
CATEGORIES:Básquetbol
END:VEVENT
BEGIN:VEVENT
DTSTART;TZID=America/Santiago:20240720T080000
DTEND;TZID=America/Santiago:20240721T230000
DTSTAMP:20260423T110054
CREATED:20240718T183531Z
LAST-MODIFIED:20240718T183531Z
UID:56899-1721462400-1721602800@deportivoaleman.cl
SUMMARY:VOLEIBOL | TORNEO MURANO EN SANTIAGO
DESCRIPTION:
URL:https://deportivoaleman.cl/evento/voleibol-torneo-murano-en-santiago/
CATEGORIES:Vóleibol
END:VEVENT
BEGIN:VEVENT
DTSTART;TZID=America/Santiago:20240720T140000
DTEND;TZID=America/Santiago:20240720T160000
DTSTAMP:20260423T110054
CREATED:20240718T183241Z
LAST-MODIFIED:20240718T183241Z
UID:56895-1721484000-1721491200@deportivoaleman.cl
SUMMARY:BÁSQUETBOL | LIGA BIO BIO VARONES EN CDA
DESCRIPTION:
URL:https://deportivoaleman.cl/evento/basquetbol-liga-bio-bio-varones-en-cda/
CATEGORIES:Básquetbol
END:VEVENT
BEGIN:VEVENT
DTSTART;TZID=America/Santiago:20240726T193000
DTEND;TZID=America/Santiago:20240726T210000
DTSTAMP:20260423T110054
CREATED:20240723T210837Z
LAST-MODIFIED:20240723T210837Z
UID:56977-1722022200-1722027600@deportivoaleman.cl
SUMMARY:FÚTBOL | LIGA BANCARIA EN CDA
DESCRIPTION:
URL:https://deportivoaleman.cl/evento/futbol-liga-bancaria-en-cda/
CATEGORIES:Fútbol
END:VEVENT
BEGIN:VEVENT
DTSTART;TZID=America/Santiago:20240727T093000
DTEND;TZID=America/Santiago:20240727T123000
DTSTAMP:20260423T110054
CREATED:20240723T210638Z
LAST-MODIFIED:20240723T210638Z
UID:56975-1722072600-1722083400@deportivoaleman.cl
SUMMARY:FÚTBOL | COPA BÍO BÍO EN CDA
DESCRIPTION:
URL:https://deportivoaleman.cl/evento/futbol-copa-bio-bio-en-cda/
CATEGORIES:Fútbol
END:VEVENT
BEGIN:VEVENT
DTSTART;TZID=America/Santiago:20240727T150000
DTEND;TZID=America/Santiago:20240727T170000
DTSTAMP:20260423T110054
CREATED:20240723T162127Z
LAST-MODIFIED:20240723T162127Z
UID:56973-1722092400-1722099600@deportivoaleman.cl
SUMMARY:TAEKWONDO | EXÁMEN DE GRADO EN CDA
DESCRIPTION:
URL:https://deportivoaleman.cl/evento/taekwondo-examen-de-grado-en-cda-2/
CATEGORIES:Taekwondo
END:VEVENT
END:VCALENDAR