BEGIN:VCALENDAR
VERSION:2.0
PRODID:-//Club Deportivo Alemán - ECPv6.15.20//NONSGML v1.0//EN
CALSCALE:GREGORIAN
METHOD:PUBLISH
X-WR-CALNAME:Club Deportivo Alemán
X-ORIGINAL-URL:https://deportivoaleman.cl
X-WR-CALDESC:Eventos para Club Deportivo Alemán
REFRESH-INTERVAL;VALUE=DURATION:PT1H
X-Robots-Tag:noindex
X-PUBLISHED-TTL:PT1H
BEGIN:VTIMEZONE
TZID:America/Santiago
BEGIN:STANDARD
TZOFFSETFROM:-0300
TZOFFSETTO:-0400
TZNAME:-04
DTSTART:20230402T030000
END:STANDARD
BEGIN:DAYLIGHT
TZOFFSETFROM:-0400
TZOFFSETTO:-0300
TZNAME:-03
DTSTART:20230903T040000
END:DAYLIGHT
BEGIN:STANDARD
TZOFFSETFROM:-0300
TZOFFSETTO:-0400
TZNAME:-04
DTSTART:20240407T030000
END:STANDARD
BEGIN:DAYLIGHT
TZOFFSETFROM:-0400
TZOFFSETTO:-0300
TZNAME:-03
DTSTART:20240908T040000
END:DAYLIGHT
BEGIN:STANDARD
TZOFFSETFROM:-0300
TZOFFSETTO:-0400
TZNAME:-04
DTSTART:20250406T030000
END:STANDARD
BEGIN:DAYLIGHT
TZOFFSETFROM:-0400
TZOFFSETTO:-0300
TZNAME:-03
DTSTART:20250907T040000
END:DAYLIGHT
END:VTIMEZONE
BEGIN:VEVENT
DTSTART;TZID=America/Santiago:20240303T130000
DTEND;TZID=America/Santiago:20240303T160000
DTSTAMP:20260423T170050
CREATED:20240229T152640Z
LAST-MODIFIED:20240229T152649Z
UID:54935-1709470800-1709481600@deportivoaleman.cl
SUMMARY:HOCKEY | PARTIDOS AMISTOSOS PLANTEL DE HONOR EN CDA
DESCRIPTION:
URL:https://deportivoaleman.cl/evento/hockey-partidos-amistosos-plantel-de-honor/
CATEGORIES:Hockey
END:VEVENT
BEGIN:VEVENT
DTSTART;TZID=America/Santiago:20240307T080000
DTEND;TZID=America/Santiago:20240310T220000
DTSTAMP:20260423T170050
CREATED:20240229T152011Z
LAST-MODIFIED:20240229T152011Z
UID:54933-1709798400-1710108000@deportivoaleman.cl
SUMMARY:VOLEIBOL | VIII VERSIÓN COPA ALEMANIA EN CDA
DESCRIPTION:
URL:https://deportivoaleman.cl/evento/voleibol-viii-version-copa-alemania-en-cda/
LOCATION:Polideportivo Club Deportivo Alemán Concepción\, El Venado 715\, Andalue\, Concepción\, Concepción\, 4030000\, Chile
CATEGORIES:Vóleibol
END:VEVENT
BEGIN:VEVENT
DTSTART;TZID=America/Santiago:20240308T120000
DTEND;TZID=America/Santiago:20240308T233000
DTSTAMP:20260423T170050
CREATED:20240306T142922Z
LAST-MODIFIED:20240306T162831Z
UID:55158-1709899200-1709940600@deportivoaleman.cl
SUMMARY:DÍA DE LA MUJER EN CLUBHAUS | MÚSICA EN VIVO Y PROMOCIÓN EN ESPUMANTE
DESCRIPTION:
URL:https://deportivoaleman.cl/evento/dia-de-la-mujer-en-clubhaus-musica-en-vivo-y-promocion-en-espumante/
CATEGORIES:Corporativo,Mundo Socios
END:VEVENT
BEGIN:VEVENT
DTSTART;TZID=America/Santiago:20240308T180000
DTEND;TZID=America/Santiago:20240308T210000
DTSTAMP:20260423T170050
CREATED:20240301T215909Z
LAST-MODIFIED:20240301T215909Z
UID:55105-1709920800-1709931600@deportivoaleman.cl
SUMMARY:BAZAR DE CHICAS | FERIA DE EMPRENDIMIENTOS EN CLUBHAUS
DESCRIPTION:
URL:https://deportivoaleman.cl/evento/bazar-de-chicas-feria-de-emprendimientos-en-clubhaus/
LOCATION:BIERSTUBE CLUBHAUS
CATEGORIES:Corporativo,Mundo Socios
END:VEVENT
BEGIN:VEVENT
DTSTART;TZID=America/Santiago:20240309T100000
DTEND;TZID=America/Santiago:20240309T130000
DTSTAMP:20260423T170050
CREATED:20240221T212001Z
LAST-MODIFIED:20240227T190904Z
UID:54900-1709978400-1709989200@deportivoaleman.cl
SUMMARY:FERIA DE VENTA E INTERCAMBIO DE UNIFORMES E IMPLEMENTOS DEPORTIVOS
DESCRIPTION:
URL:https://deportivoaleman.cl/evento/feria-de-venta-e-intercambio-de-uniformes-e-implementos-deportivos/
LOCATION:Polideportivo Club Deportivo Alemán Concepción\, El Venado 715\, Andalue\, Concepción\, Concepción\, 4030000\, Chile
CATEGORIES:Ballet,Básquetbol,Corporativo,Fútbol,Gimnasia Artística,Gimnasia Rítmica,Hockey,Pádel,Ramas,Remo,Taekwondo,Talleres,Tenis,Vóleibol
END:VEVENT
BEGIN:VEVENT
DTSTART;TZID=America/Santiago:20240309T140000
DTEND;TZID=America/Santiago:20240310T200000
DTSTAMP:20260423T170050
CREATED:20240306T212118Z
LAST-MODIFIED:20240306T212118Z
UID:55168-1709992800-1710100800@deportivoaleman.cl
SUMMARY:HOCKEY | TORNEO MASTER EN CDA
DESCRIPTION:
URL:https://deportivoaleman.cl/evento/hockey-torneo-master-en-cda/
LOCATION:Polideportivo Club Deportivo Alemán Concepción\, El Venado 715\, Andalue\, Concepción\, Concepción\, 4030000\, Chile
CATEGORIES:Hockey
END:VEVENT
BEGIN:VEVENT
DTSTART;TZID=America/Santiago:20240316T190000
DTEND;TZID=America/Santiago:20240316T233000
DTSTAMP:20260423T170050
CREATED:20240313T153119Z
LAST-MODIFIED:20240313T153119Z
UID:55190-1710615600-1710631800@deportivoaleman.cl
SUMMARY:SUNSET VICTORIA | EVENTO FAMILIAR EN ZONA PLAYA
DESCRIPTION:
URL:https://deportivoaleman.cl/evento/sunset-victoria-evento-familiar-en-zona-playa/
CATEGORIES:Corporativo,Mundo Socios
END:VEVENT
BEGIN:VEVENT
DTSTART;TZID=America/Santiago:20240321T070000
DTEND;TZID=America/Santiago:20240324T233000
DTSTAMP:20260423T170050
CREATED:20240320T191449Z
LAST-MODIFIED:20240320T191449Z
UID:55330-1711004400-1711323000@deportivoaleman.cl
SUMMARY:REMO | SUDAMERICANO MASTER EN LAGUNA CHICA SAN PEDRO DE LA PAZ
DESCRIPTION:
URL:https://deportivoaleman.cl/evento/remo-sudamericano-master-en-laguna-chica-san-pedro-de-la-paz/
CATEGORIES:Remo
END:VEVENT
BEGIN:VEVENT
DTSTART;TZID=America/Santiago:20240321T183000
DTEND;TZID=America/Santiago:20240321T193000
DTSTAMP:20260423T170050
CREATED:20240319T143039Z
LAST-MODIFIED:20240319T143039Z
UID:55319-1711045800-1711049400@deportivoaleman.cl
SUMMARY:BIERSTUBE | EXPOSICIÓN DE ARTE AUGUSTO PUGA
DESCRIPTION:
URL:https://deportivoaleman.cl/evento/bierstube-exposicion-de-arte-augusto-puga/
CATEGORIES:Corporativo,Mundo Socios
END:VEVENT
BEGIN:VEVENT
DTSTART;TZID=America/Santiago:20240322T160000
DTEND;TZID=America/Santiago:20240324T220000
DTSTAMP:20260423T170050
CREATED:20240320T192343Z
LAST-MODIFIED:20240320T192452Z
UID:55335-1711123200-1711317600@deportivoaleman.cl
SUMMARY:VOLEIBOL | LIGA NACIONAL DE MENORES EN CDA
DESCRIPTION:
URL:https://deportivoaleman.cl/evento/voleibol-liname-damas-u17-en-cda/
CATEGORIES:Vóleibol
END:VEVENT
BEGIN:VEVENT
DTSTART;VALUE=DATE:20240323
DTEND;VALUE=DATE:20240324
DTSTAMP:20260423T170050
CREATED:20240320T193720Z
LAST-MODIFIED:20240320T193720Z
UID:55339-1711152000-1711238399@deportivoaleman.cl
SUMMARY:FÚTBOL | COPA INTEGRACIÓN FRENTE A DEPORTES CONCEPCIÓN
DESCRIPTION:
URL:https://deportivoaleman.cl/evento/futbol-copa-integracion-frente-a-deportes-concepcion/
CATEGORIES:Fútbol
END:VEVENT
BEGIN:VEVENT
DTSTART;TZID=America/Santiago:20240323T190000
DTEND;TZID=America/Santiago:20240323T210000
DTSTAMP:20260423T170050
CREATED:20240320T191804Z
LAST-MODIFIED:20240320T191804Z
UID:55332-1711220400-1711227600@deportivoaleman.cl
SUMMARY:BÁSQUETBOL | LNB2 - ALEMÁN FRENTE A MUNICIPAL CHILLÁN EN CDA
DESCRIPTION:
URL:https://deportivoaleman.cl/evento/basquetbol-lnb2-aleman-frente-a-municipal-chillan-en-cda/
CATEGORIES:Básquetbol
END:VEVENT
BEGIN:VEVENT
DTSTART;TZID=America/Santiago:20240330T110000
DTEND;TZID=America/Santiago:20240331T130000
DTSTAMP:20260423T170050
CREATED:20240322T204517Z
LAST-MODIFIED:20240322T204517Z
UID:55392-1711796400-1711890000@deportivoaleman.cl
SUMMARY:FROHE OSTERN | PINTA Y BUSQUEDA DE HUEVITOS
DESCRIPTION:
URL:https://deportivoaleman.cl/evento/frohe-ostern-pinta-y-busqueda-de-huevitos/
CATEGORIES:Corporativo
END:VEVENT
END:VCALENDAR