BEGIN:VCALENDAR
VERSION:2.0
PRODID:-//Club Deportivo Alemán - ECPv6.15.20//NONSGML v1.0//EN
CALSCALE:GREGORIAN
METHOD:PUBLISH
X-WR-CALNAME:Club Deportivo Alemán
X-ORIGINAL-URL:https://deportivoaleman.cl
X-WR-CALDESC:Eventos para Club Deportivo Alemán
REFRESH-INTERVAL;VALUE=DURATION:PT1H
X-Robots-Tag:noindex
X-PUBLISHED-TTL:PT1H
BEGIN:VTIMEZONE
TZID:America/Santiago
BEGIN:STANDARD
TZOFFSETFROM:-0300
TZOFFSETTO:-0400
TZNAME:-04
DTSTART:20210404T030000
END:STANDARD
BEGIN:DAYLIGHT
TZOFFSETFROM:-0400
TZOFFSETTO:-0300
TZNAME:-03
DTSTART:20210905T040000
END:DAYLIGHT
BEGIN:STANDARD
TZOFFSETFROM:-0300
TZOFFSETTO:-0400
TZNAME:-04
DTSTART:20220403T030000
END:STANDARD
BEGIN:DAYLIGHT
TZOFFSETFROM:-0400
TZOFFSETTO:-0300
TZNAME:-03
DTSTART:20220904T040000
END:DAYLIGHT
BEGIN:STANDARD
TZOFFSETFROM:-0300
TZOFFSETTO:-0400
TZNAME:-04
DTSTART:20230402T030000
END:STANDARD
BEGIN:DAYLIGHT
TZOFFSETFROM:-0400
TZOFFSETTO:-0300
TZNAME:-03
DTSTART:20230903T040000
END:DAYLIGHT
END:VTIMEZONE
BEGIN:VEVENT
DTSTART;TZID=America/Santiago:20220705T180000
DTEND;TZID=America/Santiago:20220705T210000
DTSTAMP:20260424T235544
CREATED:20220705T144809Z
LAST-MODIFIED:20220705T144809Z
UID:43157-1657044000-1657054800@deportivoaleman.cl
SUMMARY:EN CLUBHAUS| Noche de brujas - Happy Hour + Tarot
DESCRIPTION:
URL:https://deportivoaleman.cl/evento/en-clubhaus-noche-de-brujas-happy-hour-tarot/
CATEGORIES:Corporativo
END:VEVENT
BEGIN:VEVENT
DTSTART;VALUE=DATE:20220709
DTEND;VALUE=DATE:20220710
DTSTAMP:20260424T235544
CREATED:20220705T145809Z
LAST-MODIFIED:20220705T145809Z
UID:43163-1657324800-1657411199@deportivoaleman.cl
SUMMARY:EN CHILLÁN| Fútbol - Copa Integración
DESCRIPTION:
URL:https://deportivoaleman.cl/evento/en-chillan-futbol-copa-integracion/
CATEGORIES:Fútbol
END:VEVENT
BEGIN:VEVENT
DTSTART;TZID=America/Santiago:20220710T090000
DTEND;TZID=America/Santiago:20220710T140000
DTSTAMP:20260424T235544
CREATED:20220705T145647Z
LAST-MODIFIED:20220705T145647Z
UID:43161-1657443600-1657461600@deportivoaleman.cl
SUMMARY:EN CDA| Básquetbol - Liga Bio Bio
DESCRIPTION:
URL:https://deportivoaleman.cl/evento/en-cda-basquetbol-liga-bio-bio-2/
CATEGORIES:Básquetbol
END:VEVENT
BEGIN:VEVENT
DTSTART;TZID=America/Santiago:20220713T200000
DTEND;TZID=America/Santiago:20220713T220000
DTSTAMP:20260424T235544
CREATED:20220713T220102Z
LAST-MODIFIED:20220713T220102Z
UID:43331-1657742400-1657749600@deportivoaleman.cl
SUMMARY:EN CLUBHAUS| TERCER TIEMPO TODOS LOS MIÉRCOLES
DESCRIPTION:
URL:https://deportivoaleman.cl/evento/en-clubhaus-tercer-tiempo-todos-los-miercoles/
CATEGORIES:Corporativo
END:VEVENT
BEGIN:VEVENT
DTSTART;TZID=America/Santiago:20220715T080000
DTEND;TZID=America/Santiago:20220717T170000
DTSTAMP:20260424T235544
CREATED:20220713T215639Z
LAST-MODIFIED:20220713T215639Z
UID:43327-1657872000-1658077200@deportivoaleman.cl
SUMMARY:EN SAN FABIAN DE ALICO| Voleibol - Torneo Nacional
DESCRIPTION:
URL:https://deportivoaleman.cl/evento/en-san-fabian-de-alico-voleibol-torneo-nacional/
CATEGORIES:Vóleibol
END:VEVENT
BEGIN:VEVENT
DTSTART;TZID=America/Santiago:20220715T080000
DTEND;TZID=America/Santiago:20220719T170000
DTSTAMP:20260424T235544
CREATED:20220713T212507Z
LAST-MODIFIED:20220713T212507Z
UID:43321-1657872000-1658250000@deportivoaleman.cl
SUMMARY:EN CDA| Básquetbol - Copa Alemania menores
DESCRIPTION:
URL:https://deportivoaleman.cl/evento/en-cda-basquetbol-copa-alemania-menores/
CATEGORIES:Básquetbol
END:VEVENT
BEGIN:VEVENT
DTSTART;TZID=America/Santiago:20220716T080000
DTEND;TZID=America/Santiago:20220716T110000
DTSTAMP:20260424T235544
CREATED:20220713T215818Z
LAST-MODIFIED:20220713T215818Z
UID:43329-1657958400-1657969200@deportivoaleman.cl
SUMMARY:EN LAGUNA CHICA| Remo - Regata promocional
DESCRIPTION:
URL:https://deportivoaleman.cl/evento/en-laguna-chica-remo-regata-promocional/
CATEGORIES:Remo
END:VEVENT
BEGIN:VEVENT
DTSTART;TZID=America/Santiago:20220716T080000
DTEND;TZID=America/Santiago:20220716T170000
DTSTAMP:20260424T235544
CREATED:20220713T214943Z
LAST-MODIFIED:20220713T214943Z
UID:43323-1657958400-1657990800@deportivoaleman.cl
SUMMARY:EN CHILLÁN| Fútbol - Copa Integración
DESCRIPTION:
URL:https://deportivoaleman.cl/evento/en-chillan-futbol-copa-integracion-2/
CATEGORIES:Fútbol
END:VEVENT
BEGIN:VEVENT
DTSTART;TZID=America/Santiago:20220717T190000
DTEND;TZID=America/Santiago:20220717T210000
DTSTAMP:20260424T235544
CREATED:20220714T203207Z
LAST-MODIFIED:20220714T203207Z
UID:43391-1658084400-1658091600@deportivoaleman.cl
SUMMARY:EN CDA| Básquetbol LIGA 2 CDA vs Pablo Neruda Temuco
DESCRIPTION:
URL:https://deportivoaleman.cl/evento/en-cda-basquetbol-liga-2-cda-vs-pablo-neruda-temuco/
CATEGORIES:Básquetbol
END:VEVENT
BEGIN:VEVENT
DTSTART;TZID=America/Santiago:20220723T080000
DTEND;TZID=America/Santiago:20220724T170000
DTSTAMP:20260424T235544
CREATED:20220721T224200Z
LAST-MODIFIED:20220721T224200Z
UID:43582-1658563200-1658682000@deportivoaleman.cl
SUMMARY:EN OSORNO| BÁSQUEBOL- Liga Nacional Básquetbol Dos
DESCRIPTION:
URL:https://deportivoaleman.cl/evento/en-osorno-basquebol-liga-nacional-basquetbol-dos/
CATEGORIES:Básquetbol
END:VEVENT
BEGIN:VEVENT
DTSTART;TZID=America/Santiago:20220723T110000
DTEND;TZID=America/Santiago:20220723T190000
DTSTAMP:20260424T235544
CREATED:20220721T223634Z
LAST-MODIFIED:20230522T030654Z
UID:43574-1658574000-1658602800@deportivoaleman.cl
SUMMARY:EN CDA | VOLEIBOL- Liga Centro Sur
DESCRIPTION:
URL:https://deportivoaleman.cl/evento/en-cda-voleibol-liga-centro-sur/
CATEGORIES:Vóleibol
END:VEVENT
BEGIN:VEVENT
DTSTART;TZID=America/Santiago:20220723T130000
DTEND;TZID=America/Santiago:20220723T170000
DTSTAMP:20260424T235544
CREATED:20220721T224055Z
LAST-MODIFIED:20220721T224055Z
UID:43580-1658581200-1658595600@deportivoaleman.cl
SUMMARY:EN CD HUACHIPATO| G.RÍTMICA - Campeonato Federado nivel B y C
DESCRIPTION:
URL:https://deportivoaleman.cl/evento/en-cd-huachipato-g-ritmica-campeonato-federado-nivel-b-y-c/
CATEGORIES:Gimnasia Rítmica
END:VEVENT
BEGIN:VEVENT
DTSTART;TZID=America/Santiago:20220723T180000
DTEND;TZID=America/Santiago:20220723T200000
DTSTAMP:20260424T235544
CREATED:20220721T223752Z
LAST-MODIFIED:20230522T030701Z
UID:43576-1658599200-1658606400@deportivoaleman.cl
SUMMARY:EN CDA | BÁSQUETBOL - Amistoso Master Damas
DESCRIPTION:
URL:https://deportivoaleman.cl/evento/en-cda-basquetbol-amistoso-master-damas/
CATEGORIES:Básquetbol
END:VEVENT
BEGIN:VEVENT
DTSTART;VALUE=DATE:20220729
DTEND;VALUE=DATE:20220801
DTSTAMP:20260424T235544
CREATED:20220728T142328Z
LAST-MODIFIED:20220728T142547Z
UID:43661-1659052800-1659311999@deportivoaleman.cl
SUMMARY:EN CDA | TENIS - Tour de categorias
DESCRIPTION:
URL:https://deportivoaleman.cl/evento/en-cda-tenis-tour-interescolar-y-tenis-10-del-bio-bio/
CATEGORIES:Tenis
END:VEVENT
END:VCALENDAR