BEGIN:VCALENDAR
VERSION:2.0
PRODID:-//Club Deportivo Alemán - ECPv6.15.20//NONSGML v1.0//EN
CALSCALE:GREGORIAN
METHOD:PUBLISH
X-WR-CALNAME:Club Deportivo Alemán
X-ORIGINAL-URL:https://deportivoaleman.cl
X-WR-CALDESC:Eventos para Club Deportivo Alemán
REFRESH-INTERVAL;VALUE=DURATION:PT1H
X-Robots-Tag:noindex
X-PUBLISHED-TTL:PT1H
BEGIN:VTIMEZONE
TZID:America/Halifax
BEGIN:DAYLIGHT
TZOFFSETFROM:-0400
TZOFFSETTO:-0300
TZNAME:ADT
DTSTART:20200308T060000
END:DAYLIGHT
BEGIN:STANDARD
TZOFFSETFROM:-0300
TZOFFSETTO:-0400
TZNAME:AST
DTSTART:20201101T050000
END:STANDARD
BEGIN:DAYLIGHT
TZOFFSETFROM:-0400
TZOFFSETTO:-0300
TZNAME:ADT
DTSTART:20210314T060000
END:DAYLIGHT
BEGIN:STANDARD
TZOFFSETFROM:-0300
TZOFFSETTO:-0400
TZNAME:AST
DTSTART:20211107T050000
END:STANDARD
BEGIN:DAYLIGHT
TZOFFSETFROM:-0400
TZOFFSETTO:-0300
TZNAME:ADT
DTSTART:20220313T060000
END:DAYLIGHT
BEGIN:STANDARD
TZOFFSETFROM:-0300
TZOFFSETTO:-0400
TZNAME:AST
DTSTART:20221106T050000
END:STANDARD
END:VTIMEZONE
BEGIN:VEVENT
DTSTART;TZID=America/Halifax:20210704T110000
DTEND;TZID=America/Halifax:20210704T130000
DTSTAMP:20260425T192256
CREATED:20210629T164419Z
LAST-MODIFIED:20210629T164419Z
UID:38638-1625396400-1625403600@deportivoaleman.cl
SUMMARY:Torneo Nacional Apertura Varones Hockey / CDA v/s Halcones / Cancha Azul CDA
DESCRIPTION:
URL:https://deportivoaleman.cl/evento/torneo-nacional-apertura-varones-hockey-cda-v-s-halcones-cancha-azul-cda/
CATEGORIES:Hockey
END:VEVENT
BEGIN:VEVENT
DTSTART;TZID=America/Halifax:20210704T150000
DTEND;TZID=America/Halifax:20210704T170000
DTSTAMP:20260425T192256
CREATED:20210629T164514Z
LAST-MODIFIED:20210629T164523Z
UID:38640-1625410800-1625418000@deportivoaleman.cl
SUMMARY:Partido amistoso Damas Adultas de Hockey / CDA v/s Halcones / Cancha Azul CDA
DESCRIPTION:
URL:https://deportivoaleman.cl/evento/partido-amistosos-damas-adultas-de-hockey-cda-v-s-halcones-cancha-azul-cda/
CATEGORIES:Hockey
END:VEVENT
BEGIN:VEVENT
DTSTART;TZID=America/Halifax:20210710T153000
DTEND;TZID=America/Halifax:20210710T170000
DTSTAMP:20260425T192256
CREATED:20210707T161641Z
LAST-MODIFIED:20210707T161641Z
UID:38738-1625931000-1625936400@deportivoaleman.cl
SUMMARY:Torneo Nacional Hockey Varones CDA v/s Sport Francés 2 / Santiago
DESCRIPTION:
URL:https://deportivoaleman.cl/evento/torneo-nacional-hockey-varones-cda-v-s-sport-frances-2-santiago/
CATEGORIES:Hockey
END:VEVENT
BEGIN:VEVENT
DTSTART;TZID=America/Halifax:20210711T120000
DTEND;TZID=America/Halifax:20210711T133000
DTSTAMP:20260425T192256
CREATED:20210707T161715Z
LAST-MODIFIED:20210707T161715Z
UID:38740-1626004800-1626010200@deportivoaleman.cl
SUMMARY:Torneo Nacional Hockey Varones CDA v/s PWCC 2 / Santiago
DESCRIPTION:
URL:https://deportivoaleman.cl/evento/torneo-nacional-hockey-varones-cda-v-s-pwcc-2-santiago/
CATEGORIES:Hockey
END:VEVENT
BEGIN:VEVENT
DTSTART;TZID=America/Halifax:20210716T113000
DTEND;TZID=America/Halifax:20210716T130000
DTSTAMP:20260425T192256
CREATED:20210714T145119Z
LAST-MODIFIED:20210714T145119Z
UID:38812-1626435000-1626440400@deportivoaleman.cl
SUMMARY:Torneo Nacional Hockey Varones CDA v/s Manquehue 3 / Cancha Azul CDA
DESCRIPTION:
URL:https://deportivoaleman.cl/evento/torneo-nacional-hockey-varones-cda-v-s-manquehue-3-cancha-azul-cda/
CATEGORIES:Hockey
END:VEVENT
BEGIN:VEVENT
DTSTART;TZID=America/Halifax:20210716T133000
DTEND;TZID=America/Halifax:20210716T150000
DTSTAMP:20260425T192256
CREATED:20210707T161837Z
LAST-MODIFIED:20210714T145232Z
UID:38742-1626442200-1626447600@deportivoaleman.cl
SUMMARY:Torneo Nacional Hockey Damas / CDA v/s Manquehue A/ Cancha Azul CDA
DESCRIPTION:
URL:https://deportivoaleman.cl/evento/torneo-nacional-hockey-damas-cda-v-s-manquehue-cancha-azul-cda/
CATEGORIES:Hockey
END:VEVENT
BEGIN:VEVENT
DTSTART;TZID=America/Halifax:20210717T120000
DTEND;TZID=America/Halifax:20210717T133000
DTSTAMP:20260425T192256
CREATED:20210707T161929Z
LAST-MODIFIED:20210707T161929Z
UID:38744-1626523200-1626528600@deportivoaleman.cl
SUMMARY:Torneo Nacional Hockey Damas / CDA v/s Universidad Católica / Cancha Azul CDA
DESCRIPTION:
URL:https://deportivoaleman.cl/evento/torneo-nacional-hockey-damas-cda-v-s-universidad-catolica-cancha-azul-cda/
CATEGORIES:Hockey
END:VEVENT
END:VCALENDAR