BEGIN:VCALENDAR
VERSION:2.0
PRODID:-//Club Deportivo Alemán - ECPv6.15.20//NONSGML v1.0//EN
CALSCALE:GREGORIAN
METHOD:PUBLISH
X-ORIGINAL-URL:https://deportivoaleman.cl
X-WR-CALDESC:Eventos para Club Deportivo Alemán
REFRESH-INTERVAL;VALUE=DURATION:PT1H
X-Robots-Tag:noindex
X-PUBLISHED-TTL:PT1H
BEGIN:VTIMEZONE
TZID:America/Santiago
BEGIN:STANDARD
TZOFFSETFROM:-0300
TZOFFSETTO:-0400
TZNAME:-04
DTSTART:20230402T030000
END:STANDARD
BEGIN:DAYLIGHT
TZOFFSETFROM:-0400
TZOFFSETTO:-0300
TZNAME:-03
DTSTART:20230903T040000
END:DAYLIGHT
BEGIN:STANDARD
TZOFFSETFROM:-0300
TZOFFSETTO:-0400
TZNAME:-04
DTSTART:20240407T030000
END:STANDARD
BEGIN:DAYLIGHT
TZOFFSETFROM:-0400
TZOFFSETTO:-0300
TZNAME:-03
DTSTART:20240908T040000
END:DAYLIGHT
BEGIN:STANDARD
TZOFFSETFROM:-0300
TZOFFSETTO:-0400
TZNAME:-04
DTSTART:20250406T030000
END:STANDARD
BEGIN:DAYLIGHT
TZOFFSETFROM:-0400
TZOFFSETTO:-0300
TZNAME:-03
DTSTART:20250907T040000
END:DAYLIGHT
END:VTIMEZONE
BEGIN:VEVENT
DTSTART;TZID=America/Santiago:20240601T170000
DTEND;TZID=America/Santiago:20240601T190000
DTSTAMP:20260423T140639
CREATED:20240530T212637Z
LAST-MODIFIED:20240530T214027Z
UID:56297-1717261200-1717268400@deportivoaleman.cl
SUMMARY:HOCKEY | HOCKEY 5 - FINAL NACIONAL EN SANTIAGO
DESCRIPTION:
URL:https://deportivoaleman.cl/evento/hockey-hockey-5-final-nacional/
CATEGORIES:Hockey
END:VEVENT
BEGIN:VEVENT
DTSTART;TZID=America/Santiago:20240608T080000
DTEND;TZID=America/Santiago:20240608T170000
DTSTAMP:20260423T140639
CREATED:20240606T162439Z
LAST-MODIFIED:20240606T162439Z
UID:56370-1717833600-1717866000@deportivoaleman.cl
SUMMARY:VOLEIBOL | LIGA GRANDES CLUBES EN ESTADIO ÁRABE
DESCRIPTION:
URL:https://deportivoaleman.cl/evento/voleibol-liga-grandes-clubes-en-estadio-arabe/
CATEGORIES:Vóleibol
END:VEVENT
BEGIN:VEVENT
DTSTART;TZID=America/Santiago:20240608T183000
DTEND;TZID=America/Santiago:20240608T203000
DTSTAMP:20260423T140639
CREATED:20240606T162250Z
LAST-MODIFIED:20240606T162502Z
UID:56367-1717871400-1717878600@deportivoaleman.cl
SUMMARY:HOCKEY | TORNEO NACIONAL - ADULTAS EN CDA
DESCRIPTION:
URL:https://deportivoaleman.cl/evento/hockey-torneo-nacional-adultas-a/
CATEGORIES:Hockey
END:VEVENT
BEGIN:VEVENT
DTSTART;TZID=America/Santiago:20240608T190000
DTEND;TZID=America/Santiago:20240608T220000
DTSTAMP:20260423T140639
CREATED:20240606T162104Z
LAST-MODIFIED:20240606T162104Z
UID:56365-1717873200-1717884000@deportivoaleman.cl
SUMMARY:BÁSQUETBOL | LNB2 - ALEMÁN VS BOSTON COLLEGE EN CDA
DESCRIPTION:
URL:https://deportivoaleman.cl/evento/basquetbol-lnb2-aleman-vs-boston-college-en-cda/
CATEGORIES:Básquetbol
END:VEVENT
BEGIN:VEVENT
DTSTART;TZID=America/Santiago:20240612T073000
DTEND;TZID=America/Santiago:20240615T200000
DTSTAMP:20260423T140639
CREATED:20240613T023459Z
LAST-MODIFIED:20240613T023459Z
UID:56406-1718177400-1718481600@deportivoaleman.cl
SUMMARY:FUNCIONAMIENTO POLIDEPORTIVO CON HORARIOS EXCEPCIONALES
DESCRIPTION:
URL:https://deportivoaleman.cl/evento/funcionamiento-polideportivo-con-horarios-excepcionales/
CATEGORIES:Acondicionamiento Físico Adulto Mayor,Ballet,Básquetbol,Body Attack,Corporativo,Fitness,Funcional,Fútbol,GAP,Gimnasia Artística,Gimnasia Rítmica,Handball,Hockey,Indoor Ciclyng,Iniciación deportiva,Karate,Localizado,Mundo Socios,Pádel,Pilates,Psicomotricidad y Escuela de Talentos,Ramas,Remo,Sala de Musculación,Spinning,Stretching,Taekwondo,Talleres,Tenis,TRX,Vóleibol,Yoga,Zumba
END:VEVENT
BEGIN:VEVENT
DTSTART;TZID=America/Santiago:20240612T130000
DTEND;TZID=America/Santiago:20240612T180000
DTSTAMP:20260423T140639
CREATED:20240612T164009Z
LAST-MODIFIED:20240612T164009Z
UID:56395-1718197200-1718215200@deportivoaleman.cl
SUMMARY:SALA MUSCULACIÓN | FUNCIONAMIENTO EN HORARIO EXCEPCIONAL
DESCRIPTION:
URL:https://deportivoaleman.cl/evento/sala-musculacion-funcionamiento-en-horario-excepcional/
CATEGORIES:Corporativo,Fitness,Mundo Socios,Sala de Musculación
END:VEVENT
BEGIN:VEVENT
DTSTART;TZID=America/Santiago:20240618T190000
DTEND;TZID=America/Santiago:20240618T220000
DTSTAMP:20260423T140639
CREATED:20240603T171640Z
LAST-MODIFIED:20240603T171640Z
UID:56313-1718737200-1718748000@deportivoaleman.cl
SUMMARY:ASAMBLEA ORDINARIA DE SOCIOS
DESCRIPTION:
URL:https://deportivoaleman.cl/evento/asamblea-ordinaria-de-socios/
LOCATION:BIERSTUBE CLUBHAUS
CATEGORIES:Corporativo,Mundo Socios
END:VEVENT
BEGIN:VEVENT
DTSTART;TZID=America/Santiago:20240621T200000
DTEND;TZID=America/Santiago:20240621T220000
DTSTAMP:20260423T140639
CREATED:20240619T232128Z
LAST-MODIFIED:20240619T232128Z
UID:56492-1719000000-1719007200@deportivoaleman.cl
SUMMARY:EN BIERSTUBE | COPA AMÉRICA - CHILE VS PERÚ
DESCRIPTION:
URL:https://deportivoaleman.cl/evento/en-bierstube-copa-america-chile-vs-peru/
CATEGORIES:Corporativo,Mundo Socios
END:VEVENT
BEGIN:VEVENT
DTSTART;TZID=America/Santiago:20240625T210000
DTEND;TZID=America/Santiago:20240625T223000
DTSTAMP:20260423T140639
CREATED:20240624T205647Z
LAST-MODIFIED:20240624T205647Z
UID:56518-1719349200-1719354600@deportivoaleman.cl
SUMMARY:CLUBHAUS | COPA AMÉRICA -  CHILE VS ARGENTINA
DESCRIPTION:
URL:https://deportivoaleman.cl/evento/clubhaus-copa-america-chile-vs-argentina/
CATEGORIES:Corporativo,Mundo Socios
END:VEVENT
BEGIN:VEVENT
DTSTART;TZID=America/Santiago:20240628T074000
DTEND;TZID=America/Santiago:20240628T090000
DTSTAMP:20260423T140639
CREATED:20240621T154103Z
LAST-MODIFIED:20240621T154103Z
UID:56494-1719560400-1719565200@deportivoaleman.cl
SUMMARY:EN MUSCULACIÓN | DISCO GYM - DJ\, CONCURSOS Y PREMIOS
DESCRIPTION:
URL:https://deportivoaleman.cl/evento/en-musculacion-disco-gym-dj-concursos-y-premios/
CATEGORIES:Fitness,Mundo Socios,Sala de Musculación
END:VEVENT
BEGIN:VEVENT
DTSTART;TZID=America/Santiago:20240628T080000
DTEND;TZID=America/Santiago:20240629T210000
DTSTAMP:20260423T140639
CREATED:20240626T144413Z
LAST-MODIFIED:20240626T144413Z
UID:56561-1719561600-1719694800@deportivoaleman.cl
SUMMARY:FÚTBOL | LIGA GRANDES CLUBES EN CDA
DESCRIPTION:
URL:https://deportivoaleman.cl/evento/futbol-liga-grandes-clubes-en-cda/
CATEGORIES:Fútbol
END:VEVENT
BEGIN:VEVENT
DTSTART;TZID=America/Santiago:20240628T080000
DTEND;TZID=America/Santiago:20240630T230000
DTSTAMP:20260423T140639
CREATED:20240626T143419Z
LAST-MODIFIED:20240701T200947Z
UID:56557-1719561600-1719788400@deportivoaleman.cl
SUMMARY:VOLEIBOL | LIGA NACIONAL MENORES SUB13 EN CDA
DESCRIPTION:
URL:https://deportivoaleman.cl/evento/voleibol-liga-nacional-menores-sub13-en-cda/
CATEGORIES:Vóleibol
END:VEVENT
BEGIN:VEVENT
DTSTART;TZID=America/Santiago:20240629T170000
DTEND;TZID=America/Santiago:20240629T190000
DTSTAMP:20260423T140639
CREATED:20240626T143523Z
LAST-MODIFIED:20240626T143523Z
UID:56559-1719680400-1719687600@deportivoaleman.cl
SUMMARY:BÁSQUETBOL | LNB2 - ALEMAN VS BRISAS EN CDA
DESCRIPTION:
URL:https://deportivoaleman.cl/evento/basquetbol-lnb2-aleman-vs-brisas-en-cda/
CATEGORIES:Básquetbol
END:VEVENT
BEGIN:VEVENT
DTSTART;TZID=America/Santiago:20240704T090000
DTEND;TZID=America/Santiago:20240707T210000
DTSTAMP:20260423T140639
CREATED:20240703T143717Z
LAST-MODIFIED:20240703T143717Z
UID:56596-1720083600-1720386000@deportivoaleman.cl
SUMMARY:G. ARTÍSTICA | TORNEO ALEMÁN EN CDA
DESCRIPTION:
URL:https://deportivoaleman.cl/evento/g-artistica-torneo-aleman-en-cda/
CATEGORIES:Gimnasia Artística
END:VEVENT
BEGIN:VEVENT
DTSTART;TZID=America/Santiago:20240706T080000
DTEND;TZID=America/Santiago:20240707T230000
DTSTAMP:20260423T140639
CREATED:20240704T201447Z
LAST-MODIFIED:20240704T201447Z
UID:56639-1720252800-1720393200@deportivoaleman.cl
SUMMARY:G.RÍTMICA | CONTROL CLASIFICATORIO TORNEO NACIONAL EN VALDIVIA
DESCRIPTION:
URL:https://deportivoaleman.cl/evento/g-ritmica-control-clasificatorio-torneo-nacional-en-valdivia/
CATEGORIES:Gimnasia Rítmica
END:VEVENT
BEGIN:VEVENT
DTSTART;TZID=America/Santiago:20240706T090000
DTEND;TZID=America/Santiago:20240706T180000
DTSTAMP:20260423T140639
CREATED:20240704T201310Z
LAST-MODIFIED:20240704T201310Z
UID:56637-1720256400-1720288800@deportivoaleman.cl
SUMMARY:FÚTBOL | COPA INTEGRACIÓN EN CDA
DESCRIPTION:
URL:https://deportivoaleman.cl/evento/futbol-copa-integracion-en-cda/
CATEGORIES:Fútbol
END:VEVENT
BEGIN:VEVENT
DTSTART;TZID=America/Santiago:20240706T190000
DTEND;TZID=America/Santiago:20240706T210000
DTSTAMP:20260423T140639
CREATED:20240704T201606Z
LAST-MODIFIED:20240704T201606Z
UID:56641-1720292400-1720299600@deportivoaleman.cl
SUMMARY:BÁSQUETBOL | LNB2 EN SANTIAGO
DESCRIPTION:
URL:https://deportivoaleman.cl/evento/basquetbol-lnb2-en-santiago/
CATEGORIES:Básquetbol
END:VEVENT
BEGIN:VEVENT
DTSTART;TZID=America/Santiago:20240711T083000
DTEND;TZID=America/Santiago:20240716T220000
DTSTAMP:20260423T140639
CREATED:20240708T210840Z
LAST-MODIFIED:20240708T210840Z
UID:56692-1720686600-1721167200@deportivoaleman.cl
SUMMARY:BÁSQUETBOL | COPA ALEMANIA MENORES
DESCRIPTION:
URL:https://deportivoaleman.cl/evento/basquetbol-copa-alemania-menores/
CATEGORIES:Básquetbol
END:VEVENT
BEGIN:VEVENT
DTSTART;TZID=America/Santiago:20240720T080000
DTEND;TZID=America/Santiago:20240721T220000
DTSTAMP:20260423T140639
CREATED:20240718T183341Z
LAST-MODIFIED:20240718T183341Z
UID:56897-1721462400-1721599200@deportivoaleman.cl
SUMMARY:BÁSQUETBOL | LIGA NACIONAL DOS - EN VALPARAÍSO Y QUILPUE
DESCRIPTION:
URL:https://deportivoaleman.cl/evento/basquetbol-liga-nacional-dos-en-valparaiso-y-quilpue/
CATEGORIES:Básquetbol
END:VEVENT
BEGIN:VEVENT
DTSTART;TZID=America/Santiago:20240720T080000
DTEND;TZID=America/Santiago:20240721T230000
DTSTAMP:20260423T140639
CREATED:20240718T183531Z
LAST-MODIFIED:20240718T183531Z
UID:56899-1721462400-1721602800@deportivoaleman.cl
SUMMARY:VOLEIBOL | TORNEO MURANO EN SANTIAGO
DESCRIPTION:
URL:https://deportivoaleman.cl/evento/voleibol-torneo-murano-en-santiago/
CATEGORIES:Vóleibol
END:VEVENT
BEGIN:VEVENT
DTSTART;TZID=America/Santiago:20240720T140000
DTEND;TZID=America/Santiago:20240720T160000
DTSTAMP:20260423T140639
CREATED:20240718T183241Z
LAST-MODIFIED:20240718T183241Z
UID:56895-1721484000-1721491200@deportivoaleman.cl
SUMMARY:BÁSQUETBOL | LIGA BIO BIO VARONES EN CDA
DESCRIPTION:
URL:https://deportivoaleman.cl/evento/basquetbol-liga-bio-bio-varones-en-cda/
CATEGORIES:Básquetbol
END:VEVENT
BEGIN:VEVENT
DTSTART;TZID=America/Santiago:20240726T193000
DTEND;TZID=America/Santiago:20240726T210000
DTSTAMP:20260423T140639
CREATED:20240723T210837Z
LAST-MODIFIED:20240723T210837Z
UID:56977-1722022200-1722027600@deportivoaleman.cl
SUMMARY:FÚTBOL | LIGA BANCARIA EN CDA
DESCRIPTION:
URL:https://deportivoaleman.cl/evento/futbol-liga-bancaria-en-cda/
CATEGORIES:Fútbol
END:VEVENT
BEGIN:VEVENT
DTSTART;TZID=America/Santiago:20240727T093000
DTEND;TZID=America/Santiago:20240727T123000
DTSTAMP:20260423T140639
CREATED:20240723T210638Z
LAST-MODIFIED:20240723T210638Z
UID:56975-1722072600-1722083400@deportivoaleman.cl
SUMMARY:FÚTBOL | COPA BÍO BÍO EN CDA
DESCRIPTION:
URL:https://deportivoaleman.cl/evento/futbol-copa-bio-bio-en-cda/
CATEGORIES:Fútbol
END:VEVENT
BEGIN:VEVENT
DTSTART;TZID=America/Santiago:20240727T150000
DTEND;TZID=America/Santiago:20240727T170000
DTSTAMP:20260423T140639
CREATED:20240723T162127Z
LAST-MODIFIED:20240723T162127Z
UID:56973-1722092400-1722099600@deportivoaleman.cl
SUMMARY:TAEKWONDO | EXÁMEN DE GRADO EN CDA
DESCRIPTION:
URL:https://deportivoaleman.cl/evento/taekwondo-examen-de-grado-en-cda-2/
CATEGORIES:Taekwondo
END:VEVENT
BEGIN:VEVENT
DTSTART;TZID=America/Santiago:20240802T080000
DTEND;TZID=America/Santiago:20240804T220000
DTSTAMP:20260423T140639
CREATED:20240729T224031Z
LAST-MODIFIED:20240729T224031Z
UID:57003-1722585600-1722808800@deportivoaleman.cl
SUMMARY:VOLEIBOL | LIGA NACIONAL DE MENORES
DESCRIPTION:
URL:https://deportivoaleman.cl/evento/voleibol-liga-nacional-de-menores/
CATEGORIES:Vóleibol
END:VEVENT
BEGIN:VEVENT
DTSTART;TZID=America/Santiago:20240811T110000
DTEND;TZID=America/Santiago:20240811T130000
DTSTAMP:20260423T140639
CREATED:20240802T175756Z
LAST-MODIFIED:20240802T175756Z
UID:57042-1723374000-1723381200@deportivoaleman.cl
SUMMARY:KINDERTAG | CELEBRACIÓN DÍA DEL NIÑO EN CDA
DESCRIPTION:
URL:https://deportivoaleman.cl/evento/kindertag-celebracion-dia-del-nino-en-cda-2/
CATEGORIES:Corporativo,Mundo Socios
END:VEVENT
BEGIN:VEVENT
DTSTART;TZID=America/Santiago:20240821T200000
DTEND;TZID=America/Santiago:20240821T210000
DTSTAMP:20260423T140639
CREATED:20240821T174734Z
LAST-MODIFIED:20240821T174734Z
UID:57163-1724270400-1724274000@deportivoaleman.cl
SUMMARY:CHARLA: FACTORES DE RIESGO CARDIOVASCULAR | ABIERTA A LA COMUNIDAD EN CLUBHAUS VICTORIA
DESCRIPTION:
URL:https://deportivoaleman.cl/evento/charla-factores-de-riesgo-cardiovascular-abierta-a-la-comunidad-en-clubhaus-victoria/
CATEGORIES:Corporativo,Mundo Socios
END:VEVENT
BEGIN:VEVENT
DTSTART;TZID=America/Santiago:20240824T180000
DTEND;TZID=America/Santiago:20240824T230000
DTSTAMP:20260423T140639
CREATED:20240821T174959Z
LAST-MODIFIED:20240821T174959Z
UID:57165-1724522400-1724540400@deportivoaleman.cl
SUMMARY:BINGO FAMILIAR BÁSQUETBOL | EN GIMNASIO CASTELLÓN
DESCRIPTION:
URL:https://deportivoaleman.cl/evento/bingo-familiar-basquetbol-en-gimnasio-castellon/
CATEGORIES:Básquetbol,Corporativo,Mundo Socios
END:VEVENT
BEGIN:VEVENT
DTSTART;TZID=America/Santiago:20240831T200000
DTEND;TZID=America/Santiago:20240831T233000
DTSTAMP:20260423T140639
CREATED:20240802T175923Z
LAST-MODIFIED:20240802T175949Z
UID:57044-1725134400-1725147000@deportivoaleman.cl
SUMMARY:FIESTA ANIVERSARIO | CELEBRACIÓN 138 AÑOS CDA
DESCRIPTION:
URL:https://deportivoaleman.cl/evento/fiesta-aniversario-celebracion-138-anos-cda/
CATEGORIES:Corporativo,Mundo Socios
END:VEVENT
BEGIN:VEVENT
DTSTART;TZID=America/Santiago:20240907T110000
DTEND;TZID=America/Santiago:20240907T160000
DTSTAMP:20260423T140639
CREATED:20240826T221342Z
LAST-MODIFIED:20240826T221342Z
UID:57204-1725706800-1725724800@deportivoaleman.cl
SUMMARY:FIESTA CRIOLLA FAMILIAR
DESCRIPTION:
URL:https://deportivoaleman.cl/evento/fiesta-criolla-familiar/
CATEGORIES:Corporativo,Mundo Socios
END:VEVENT
END:VCALENDAR