BEGIN:VCALENDAR
VERSION:2.0
PRODID:-//Club Deportivo Alemán - ECPv6.15.20//NONSGML v1.0//EN
CALSCALE:GREGORIAN
METHOD:PUBLISH
X-ORIGINAL-URL:https://deportivoaleman.cl
X-WR-CALDESC:Eventos para Club Deportivo Alemán
REFRESH-INTERVAL;VALUE=DURATION:PT1H
X-Robots-Tag:noindex
X-PUBLISHED-TTL:PT1H
BEGIN:VTIMEZONE
TZID:America/Santiago
BEGIN:STANDARD
TZOFFSETFROM:-0300
TZOFFSETTO:-0400
TZNAME:-04
DTSTART:20220403T030000
END:STANDARD
BEGIN:DAYLIGHT
TZOFFSETFROM:-0400
TZOFFSETTO:-0300
TZNAME:-03
DTSTART:20220904T040000
END:DAYLIGHT
BEGIN:STANDARD
TZOFFSETFROM:-0300
TZOFFSETTO:-0400
TZNAME:-04
DTSTART:20230402T030000
END:STANDARD
BEGIN:DAYLIGHT
TZOFFSETFROM:-0400
TZOFFSETTO:-0300
TZNAME:-03
DTSTART:20230903T040000
END:DAYLIGHT
BEGIN:STANDARD
TZOFFSETFROM:-0300
TZOFFSETTO:-0400
TZNAME:-04
DTSTART:20240407T030000
END:STANDARD
BEGIN:DAYLIGHT
TZOFFSETFROM:-0400
TZOFFSETTO:-0300
TZNAME:-03
DTSTART:20240908T040000
END:DAYLIGHT
END:VTIMEZONE
BEGIN:VEVENT
DTSTART;TZID=America/Santiago:20231001T093000
DTEND;TZID=America/Santiago:20231001T133000
DTSTAMP:20260424T020625
CREATED:20230926T205037Z
LAST-MODIFIED:20230926T205037Z
UID:52153-1696152600-1696167000@deportivoaleman.cl
SUMMARY:SEMINARIO DE COMBATE DEPORTIVO TAEKWONDO
DESCRIPTION:La primera taekwondista chilena en competir en los Juegos Olímpicos\, Yenny Contreras\, visitará nuestro club para realizar un seminario de combate deportivo. \nLa instancia se llevará a cabo en el Gimnasio Otto de Club Deportivo Alemán\, desde las 09:30 hasta las 13:30 horas.
URL:https://deportivoaleman.cl/evento/seminario-de-combate-deportivo-taekwondo/
LOCATION:Gimnasio Otto CDA
CATEGORIES:Taekwondo
END:VEVENT
BEGIN:VEVENT
DTSTART;TZID=America/Santiago:20231006T190000
DTEND;TZID=America/Santiago:20231006T210000
DTSTAMP:20260424T020625
CREATED:20231006T003524Z
LAST-MODIFIED:20231006T003524Z
UID:52283-1696618800-1696626000@deportivoaleman.cl
SUMMARY:FÚTBOL FEMENINO | TRIANGULAR ENTRE ALEMÁN\, PIANURA Y ARMADA EN CDA
DESCRIPTION:
URL:https://deportivoaleman.cl/evento/futbol-femenino-triangular-entre-aleman-pianura-y-armada-en-cda/
LOCATION:Polideportivo Club Deportivo Alemán Concepción\, El Venado 715\, Andalue\, Concepción\, Concepción\, 4030000\, Chile
CATEGORIES:Fútbol
END:VEVENT
BEGIN:VEVENT
DTSTART;VALUE=DATE:20231007
DTEND;VALUE=DATE:20231009
DTSTAMP:20260424T020625
CREATED:20231006T003949Z
LAST-MODIFIED:20231006T003949Z
UID:52289-1696636800-1696809599@deportivoaleman.cl
SUMMARY:BÁSQUETBOL | COPA CHILE LIGA NACIONAL EN SANTIAGO
DESCRIPTION:
URL:https://deportivoaleman.cl/evento/basquetbol-copa-chile-liga-nacional-en-santiago/
CATEGORIES:Básquetbol
END:VEVENT
BEGIN:VEVENT
DTSTART;TZID=America/Santiago:20231007T090000
DTEND;TZID=America/Santiago:20231007T100000
DTSTAMP:20260424T020625
CREATED:20231006T002749Z
LAST-MODIFIED:20231006T002749Z
UID:52275-1696669200-1696672800@deportivoaleman.cl
SUMMARY:HANDBALL | TORNEO SUPER 8 EN CDA
DESCRIPTION:
URL:https://deportivoaleman.cl/evento/handball-torneo-super-8-en-cda-2/
LOCATION:Polideportivo Club Deportivo Alemán Concepción\, El Venado 715\, Andalue\, Concepción\, Concepción\, 4030000\, Chile
CATEGORIES:Handball
END:VEVENT
BEGIN:VEVENT
DTSTART;TZID=America/Santiago:20231007T090000
DTEND;TZID=America/Santiago:20231007T130000
DTSTAMP:20260424T020625
CREATED:20231006T002937Z
LAST-MODIFIED:20231006T003316Z
UID:52277-1696669200-1696683600@deportivoaleman.cl
SUMMARY:FUTBOL FEMENINO | ALEMÁN VS TALENTO FEMENINO EN CDA
DESCRIPTION:
URL:https://deportivoaleman.cl/evento/futbol-femenino-alemnan-vs-talento-femenino-en-cda/
LOCATION:Polideportivo Club Deportivo Alemán Concepción\, El Venado 715\, Andalue\, Concepción\, Concepción\, 4030000\, Chile
CATEGORIES:Fútbol
END:VEVENT
BEGIN:VEVENT
DTSTART;TZID=America/Santiago:20231007T100000
DTEND;TZID=America/Santiago:20231007T130000
DTSTAMP:20260424T020625
CREATED:20231003T165330Z
LAST-MODIFIED:20231003T165330Z
UID:52238-1696672800-1696683600@deportivoaleman.cl
SUMMARY:ZUMBATÓN BIENVENIDA PRIMAVERA
DESCRIPTION:Club Deportivo Alemán realizará una maratón de zumba para darle inicio a la primavera . La actividad se llevará a cabo el sábado 7 de octubre de 10:00 a 13:00 horas en las áreas verdes del CDA. \nContará con 4 sesiones de zumba de diferentes niveles: Años dorados\, Kids\, Intermedia y Top. \nLos cupos son limitados\, no olvides inscribirte en relacionespublicas@deportivoaleman.cl \n  \n*ACTIVIDAD EXCLUSIVA PARA SOCIOS
URL:https://deportivoaleman.cl/evento/zumbaton-bienvenida-primavera/
CATEGORIES:Zumba
END:VEVENT
BEGIN:VEVENT
DTSTART;TZID=America/Santiago:20231007T140000
DTEND;TZID=America/Santiago:20231007T190000
DTSTAMP:20260424T020625
CREATED:20231006T003230Z
LAST-MODIFIED:20231006T003240Z
UID:52279-1696687200-1696705200@deportivoaleman.cl
SUMMARY:BÁSQUETBOL | LIGA BIOBIO - ALEMÁN VS ESTUDIANTES SAN PEDRO EN CDA
DESCRIPTION:
URL:https://deportivoaleman.cl/evento/basqutbol-liga-biobio-aleman-vs-estudiantes-san-pedro-en-cda/
LOCATION:Polideportivo Club Deportivo Alemán Concepción\, El Venado 715\, Andalue\, Concepción\, Concepción\, 4030000\, Chile
CATEGORIES:Básquetbol
END:VEVENT
BEGIN:VEVENT
DTSTART;VALUE=DATE:20231012
DTEND;VALUE=DATE:20231016
DTSTAMP:20260424T020625
CREATED:20231012T210745Z
LAST-MODIFIED:20231012T210745Z
UID:52379-1697068800-1697414399@deportivoaleman.cl
SUMMARY:OLIMIPIADAS CGE EN CDA
DESCRIPTION:
URL:https://deportivoaleman.cl/evento/olimipiadas-cge-en-cda/
LOCATION:Polideportivo Club Deportivo Alemán Concepción\, El Venado 715\, Andalue\, Concepción\, Concepción\, 4030000\, Chile
CATEGORIES:Corporativo
END:VEVENT
BEGIN:VEVENT
DTSTART;VALUE=DATE:20231014
DTEND;VALUE=DATE:20231015
DTSTAMP:20260424T020625
CREATED:20231012T211207Z
LAST-MODIFIED:20231012T211207Z
UID:52385-1697241600-1697327999@deportivoaleman.cl
SUMMARY:FÚTBOL | COPA INTEGRACIÓN EN LOTA
DESCRIPTION:
URL:https://deportivoaleman.cl/evento/futbol-copa-integracion-en-lota/
CATEGORIES:Fútbol
END:VEVENT
BEGIN:VEVENT
DTSTART;VALUE=DATE:20231014
DTEND;VALUE=DATE:20231016
DTSTAMP:20260424T020625
CREATED:20231012T211116Z
LAST-MODIFIED:20231012T211116Z
UID:52383-1697241600-1697414399@deportivoaleman.cl
SUMMARY:G. RÍTMICA | CONTROL ZONAL EN PIRQUE
DESCRIPTION:
URL:https://deportivoaleman.cl/evento/g-ritmica-control-zonal-en-pirque/
CATEGORIES:Gimnasia Rítmica
END:VEVENT
BEGIN:VEVENT
DTSTART;TZID=America/Santiago:20231015T160000
DTEND;TZID=America/Santiago:20231015T180000
DTSTAMP:20260424T020625
CREATED:20231012T211006Z
LAST-MODIFIED:20231012T211006Z
UID:52381-1697385600-1697392800@deportivoaleman.cl
SUMMARY:BÁSQUETBOL | LIGA NACIONAL 2 EN CDA - ALEMÁN VS BOSTON COLLEGE
DESCRIPTION:
URL:https://deportivoaleman.cl/evento/basquetbol-liga-nacional-2-en-cda-aleman-vs-boston-college/
LOCATION:Gimnasio Otto
CATEGORIES:Básquetbol
END:VEVENT
BEGIN:VEVENT
DTSTART;TZID=America/Santiago:20231021T120000
DTEND;TZID=America/Santiago:20231021T233000
DTSTAMP:20260424T020625
CREATED:20231003T165511Z
LAST-MODIFIED:20231003T165511Z
UID:52240-1697889600-1697931000@deportivoaleman.cl
SUMMARY:OKTOBERFEST
DESCRIPTION:
URL:https://deportivoaleman.cl/evento/oktoberfest/
LOCATION:Club Deportivo Alemán
CATEGORIES:Corporativo
END:VEVENT
BEGIN:VEVENT
DTSTART;TZID=America/Santiago:20231031T210000
DTEND;TZID=America/Santiago:20231031T210000
DTSTAMP:20260424T020625
CREATED:20231020T110503Z
LAST-MODIFIED:20231020T110503Z
UID:52461-1698786000-1698786000@deportivoaleman.cl
SUMMARY:INAUGURACIÓN MADRIGUERA | HALLOWEEN
DESCRIPTION:
URL:https://deportivoaleman.cl/evento/inauguracion-madriguera-halloween/
CATEGORIES:Corporativo
END:VEVENT
BEGIN:VEVENT
DTSTART;TZID=America/Santiago:20231102T080000
DTEND;TZID=America/Santiago:20231105T233000
DTSTAMP:20260424T020625
CREATED:20231102T150246Z
LAST-MODIFIED:20231102T150246Z
UID:52757-1698912000-1699227000@deportivoaleman.cl
SUMMARY:G.ARTÍSTICA | COPA ALEMANIA EN CLUB MANQUEHUE
DESCRIPTION:
URL:https://deportivoaleman.cl/evento/g-artistica-copa-alemania-en-club-manquehue/
CATEGORIES:Gimnasia Artística
END:VEVENT
BEGIN:VEVENT
DTSTART;VALUE=DATE:20231103
DTEND;VALUE=DATE:20231105
DTSTAMP:20260424T020625
CREATED:20231031T192622Z
LAST-MODIFIED:20231031T192706Z
UID:52732-1698969600-1699142399@deportivoaleman.cl
SUMMARY:PÁDEL | LIGA GRANDES CLUBES EN CDA
DESCRIPTION:
URL:https://deportivoaleman.cl/evento/padel-liga-grandes-clubes-en-cda-2/
CATEGORIES:Pádel
END:VEVENT
BEGIN:VEVENT
DTSTART;TZID=America/Santiago:20231104T170000
DTEND;TZID=America/Santiago:20231104T190000
DTSTAMP:20260424T020625
CREATED:20231031T135151Z
LAST-MODIFIED:20231031T135451Z
UID:52614-1699117200-1699124400@deportivoaleman.cl
SUMMARY:REMOFEST
DESCRIPTION:
URL:https://deportivoaleman.cl/evento/remofest/
LOCATION:Gimnasio Castellón\, Club Deportivo Alemán\, El Venado 715\, Andalue\, Concepción\, Concepción\, 4030000\, Chile
CATEGORIES:Remo
ATTACH;FMTTYPE=image/jpeg:https://deportivoaleman.cl/wp-content/uploads/2023/10/Imagen-de-WhatsApp-2023-10-31-a-las-10.45.53_1d6f8702.jpg
END:VEVENT
BEGIN:VEVENT
DTSTART;TZID=America/Santiago:20231109T090000
DTEND;TZID=America/Santiago:20231112T200000
DTSTAMP:20260424T020625
CREATED:20231109T200108Z
LAST-MODIFIED:20231109T200108Z
UID:52904-1699520400-1699819200@deportivoaleman.cl
SUMMARY:TENIS | CLASIFICATORIO REGIONAL EN CDA
DESCRIPTION:
URL:https://deportivoaleman.cl/evento/tenis-clasificatorio-regional-en-cda/
LOCATION:Polideportivo Club Deportivo Alemán Concepción\, El Venado 715\, Andalue\, Concepción\, Concepción\, 4030000\, Chile
CATEGORIES:Tenis
END:VEVENT
BEGIN:VEVENT
DTSTART;TZID=America/Santiago:20231110T080000
DTEND;TZID=America/Santiago:20231112T230000
DTSTAMP:20260424T020625
CREATED:20231109T200426Z
LAST-MODIFIED:20231109T200426Z
UID:52909-1699603200-1699830000@deportivoaleman.cl
SUMMARY:BÁSQUETBOL | PRE DOMANI U19 EN OSORNO
DESCRIPTION:
URL:https://deportivoaleman.cl/evento/basquetbol-pre-domani-u19-en-osorno/
CATEGORIES:Básquetbol
END:VEVENT
BEGIN:VEVENT
DTSTART;TZID=America/Santiago:20231111T080000
DTEND;TZID=America/Santiago:20231112T210000
DTSTAMP:20260424T020625
CREATED:20231109T200237Z
LAST-MODIFIED:20231109T200237Z
UID:52907-1699689600-1699822800@deportivoaleman.cl
SUMMARY:VOLEIBOL | LIGA NACIONAL A1 EN SANTIAGO
DESCRIPTION:
URL:https://deportivoaleman.cl/evento/voleibol-liga-nacional-a1-en-santiago/
CATEGORIES:Vóleibol
END:VEVENT
BEGIN:VEVENT
DTSTART;TZID=America/Santiago:20231111T123000
DTEND;TZID=America/Santiago:20231111T180000
DTSTAMP:20260424T020625
CREATED:20231109T201038Z
LAST-MODIFIED:20231109T201038Z
UID:52913-1699705800-1699725600@deportivoaleman.cl
SUMMARY:FUTBOL | COPA INTEGRACIÓN ALEMÁN VS HUACHIPATO
DESCRIPTION:
URL:https://deportivoaleman.cl/evento/futbol-copa-integracion-aleman-vs-huachipato/
LOCATION:Polideportivo Club Deportivo Alemán Concepción\, El Venado 715\, Andalue\, Concepción\, Concepción\, 4030000\, Chile
CATEGORIES:Fútbol
END:VEVENT
BEGIN:VEVENT
DTSTART;TZID=America/Santiago:20231112T110000
DTEND;TZID=America/Santiago:20231112T130000
DTSTAMP:20260424T020625
CREATED:20231109T200706Z
LAST-MODIFIED:20231109T200706Z
UID:52911-1699786800-1699794000@deportivoaleman.cl
SUMMARY:HOCKEY | TORNEO NACIONAL ALEMÁN VS SPORT FRANCES SUB16
DESCRIPTION:
URL:https://deportivoaleman.cl/evento/hockey-torneo-nacional-aleman-vs-sport-frances-sub16/
LOCATION:Polideportivo Club Deportivo Alemán Concepción\, El Venado 715\, Andalue\, Concepción\, Concepción\, 4030000\, Chile
CATEGORIES:Hockey
END:VEVENT
BEGIN:VEVENT
DTSTART;TZID=America/Santiago:20231117T080000
DTEND;TZID=America/Santiago:20231118T233000
DTSTAMP:20260424T020625
CREATED:20231118T003153Z
LAST-MODIFIED:20231118T003153Z
UID:53082-1700208000-1700350200@deportivoaleman.cl
SUMMARY:G.ARTÍSTICA | COPA SOLIDARIDAD EN STADIO ITALIANO EN SANTIAGO
DESCRIPTION:
URL:https://deportivoaleman.cl/evento/g-artistica-copa-solidaridad-en-stadio-italiano-en-santiago/
CATEGORIES:Gimnasia Artística
END:VEVENT
BEGIN:VEVENT
DTSTART;VALUE=DATE:20231118
DTEND;VALUE=DATE:20231119
DTSTAMP:20260424T020625
CREATED:20231116T171119Z
LAST-MODIFIED:20231116T171119Z
UID:53064-1700265600-1700351999@deportivoaleman.cl
SUMMARY:HOCKEY VARONES | TORNEO NACIONAL - ALEMÁN VS PWCC EN SANTIAGO
DESCRIPTION:
URL:https://deportivoaleman.cl/evento/hockey-varones-torneo-nacional-aleman-vs-pwcc-en-santiago/
CATEGORIES:Hockey
END:VEVENT
BEGIN:VEVENT
DTSTART;TZID=America/Santiago:20231118T080000
DTEND;TZID=America/Santiago:20231119T190000
DTSTAMP:20260424T020625
CREATED:20231116T170853Z
LAST-MODIFIED:20231116T170853Z
UID:53062-1700294400-1700420400@deportivoaleman.cl
SUMMARY:VOLEIBOL | LIGA A1 EN SANTIAGO
DESCRIPTION:
URL:https://deportivoaleman.cl/evento/voleibol-liga-a1-en-santiago/
CATEGORIES:Vóleibol
END:VEVENT
BEGIN:VEVENT
DTSTART;TZID=America/Santiago:20231118T090000
DTEND;TZID=America/Santiago:20231118T110000
DTSTAMP:20260424T020625
CREATED:20231116T170639Z
LAST-MODIFIED:20231116T170639Z
UID:53058-1700298000-1700305200@deportivoaleman.cl
SUMMARY:HOCKEY | ENCUENTRO MENORES EN CDA
DESCRIPTION:
URL:https://deportivoaleman.cl/evento/hockey-encuentro-menores-en-cda/
LOCATION:Polideportivo Club Deportivo Alemán Concepción\, El Venado 715\, Andalue\, Concepción\, Concepción\, 4030000\, Chile
CATEGORIES:Hockey
END:VEVENT
BEGIN:VEVENT
DTSTART;TZID=America/Santiago:20231118T130000
DTEND;TZID=America/Santiago:20231118T180000
DTSTAMP:20260424T020625
CREATED:20231116T170740Z
LAST-MODIFIED:20231116T170740Z
UID:53060-1700312400-1700330400@deportivoaleman.cl
SUMMARY:FUTBOL | SEMI FINALES COPA INTEGRACIÓN - ALEMÁN VS ARAUCO EN CDA
DESCRIPTION:
URL:https://deportivoaleman.cl/evento/futbol-semi-finales-copa-integracion-aleman-vs-arauco-en-cda/
LOCATION:Polideportivo Club Deportivo Alemán Concepción\, El Venado 715\, Andalue\, Concepción\, Concepción\, 4030000\, Chile
CATEGORIES:Fútbol
END:VEVENT
BEGIN:VEVENT
DTSTART;TZID=America/Santiago:20231123T080000
DTEND;TZID=America/Santiago:20231126T180000
DTSTAMP:20260424T020625
CREATED:20231123T173649Z
LAST-MODIFIED:20231123T173649Z
UID:53281-1700726400-1701021600@deportivoaleman.cl
SUMMARY:G.ARTÍSTICA | COPA CONCEPCIÓN  EN GIMNASIO MUNICIPAL DE CONCEPCIÓN
DESCRIPTION:
URL:https://deportivoaleman.cl/evento/g-artistica-copa-concepcion-en-gimnasio-municipal-de-concepcion/
CATEGORIES:Gimnasia Artística
END:VEVENT
BEGIN:VEVENT
DTSTART;VALUE=DATE:20231125
DTEND;VALUE=DATE:20231126
DTSTAMP:20260424T020625
CREATED:20231121T152555Z
LAST-MODIFIED:20231123T185714Z
UID:53180-1700870400-1700956799@deportivoaleman.cl
SUMMARY:TORNEO SPINNING INTERCLUBES EN CDA
DESCRIPTION:ESTADIO ESPAÑOL – LLACOLÉN – BELLAVISTA – DEPORTIVO \nSÁBADO 25  \nSECTOR LAGUNA
URL:https://deportivoaleman.cl/evento/torneo-spinning-interclubes/
LOCATION:Laguna
CATEGORIES:Fitness,Spinning
END:VEVENT
BEGIN:VEVENT
DTSTART;TZID=America/Santiago:20231125T170000
DTEND;TZID=America/Santiago:20231125T190000
DTSTAMP:20260424T020625
CREATED:20231124T144000Z
LAST-MODIFIED:20231124T144000Z
UID:53327-1700931600-1700938800@deportivoaleman.cl
SUMMARY:BASQUETBOL | COPA CHILE DOS - ALEMÁN VS COLO COLO EN CDA
DESCRIPTION:
URL:https://deportivoaleman.cl/evento/basquetbol-copa-chile-dos-aleman-vs-colo-colo-en-cda/
LOCATION:Polideportivo Club Deportivo Alemán Concepción\, El Venado 715\, Andalue\, Concepción\, Concepción\, 4030000\, Chile
CATEGORIES:Básquetbol
END:VEVENT
BEGIN:VEVENT
DTSTART;TZID=America/Santiago:20231128T113000
DTEND;TZID=America/Santiago:20231128T170000
DTSTAMP:20260424T020625
CREATED:20231128T203947Z
LAST-MODIFIED:20231128T203947Z
UID:53438-1701171000-1701190800@deportivoaleman.cl
SUMMARY:VÓLEIBOL CDA VS COLO COLO
DESCRIPTION:
URL:https://deportivoaleman.cl/evento/voleibol-cda-vs-colo-colo/
LOCATION:Club Deportivo Alemán
CATEGORIES:Vóleibol
END:VEVENT
END:VCALENDAR