BEGIN:VCALENDAR
VERSION:2.0
PRODID:-//Club Deportivo Alemán - ECPv6.15.20//NONSGML v1.0//EN
CALSCALE:GREGORIAN
METHOD:PUBLISH
X-ORIGINAL-URL:https://deportivoaleman.cl
X-WR-CALDESC:Eventos para Club Deportivo Alemán
REFRESH-INTERVAL;VALUE=DURATION:PT1H
X-Robots-Tag:noindex
X-PUBLISHED-TTL:PT1H
BEGIN:VTIMEZONE
TZID:America/Santiago
BEGIN:STANDARD
TZOFFSETFROM:-0300
TZOFFSETTO:-0400
TZNAME:-04
DTSTART:20220403T030000
END:STANDARD
BEGIN:DAYLIGHT
TZOFFSETFROM:-0400
TZOFFSETTO:-0300
TZNAME:-03
DTSTART:20220904T040000
END:DAYLIGHT
BEGIN:STANDARD
TZOFFSETFROM:-0300
TZOFFSETTO:-0400
TZNAME:-04
DTSTART:20230402T030000
END:STANDARD
BEGIN:DAYLIGHT
TZOFFSETFROM:-0400
TZOFFSETTO:-0300
TZNAME:-03
DTSTART:20230903T040000
END:DAYLIGHT
BEGIN:STANDARD
TZOFFSETFROM:-0300
TZOFFSETTO:-0400
TZNAME:-04
DTSTART:20240407T030000
END:STANDARD
BEGIN:DAYLIGHT
TZOFFSETFROM:-0400
TZOFFSETTO:-0300
TZNAME:-03
DTSTART:20240908T040000
END:DAYLIGHT
END:VTIMEZONE
BEGIN:VEVENT
DTSTART;VALUE=DATE:20230804
DTEND;VALUE=DATE:20230807
DTSTAMP:20260424T051714
CREATED:20230801T220328Z
LAST-MODIFIED:20230801T220328Z
UID:51329-1691107200-1691366399@deportivoaleman.cl
SUMMARY:TENIS | TORNEO ESCOLAR FEDERADO EN CDA
DESCRIPTION:
URL:https://deportivoaleman.cl/evento/tenis-torneo-escolar-federado-en-cda/
LOCATION:Polideportivo Club Deportivo Alemán Concepción\, El Venado 715\, Andalue\, Concepción\, Concepción\, 4030000\, Chile
CATEGORIES:Tenis
END:VEVENT
BEGIN:VEVENT
DTSTART;VALUE=DATE:20230805
DTEND;VALUE=DATE:20230807
DTSTAMP:20260424T051714
CREATED:20230801T205140Z
LAST-MODIFIED:20230801T205401Z
UID:51297-1691193600-1691366399@deportivoaleman.cl
SUMMARY:VOLEIBOL | LINAME EN CDA
DESCRIPTION:
URL:https://deportivoaleman.cl/evento/voleibol-liname-en-cda/
LOCATION:Polideportivo Club Deportivo Alemán Concepción\, El Venado 715\, Andalue\, Concepción\, Concepción\, 4030000\, Chile
CATEGORIES:Vóleibol
END:VEVENT
BEGIN:VEVENT
DTSTART;VALUE=DATE:20230805
DTEND;VALUE=DATE:20230807
DTSTAMP:20260424T051714
CREATED:20230801T211347Z
LAST-MODIFIED:20230801T211347Z
UID:51303-1691193600-1691366399@deportivoaleman.cl
SUMMARY:HOCKEY | TORNEO NACIONAL EN CDA
DESCRIPTION:
URL:https://deportivoaleman.cl/evento/hockey-torneo-nacional-en-cda/
LOCATION:Polideportivo Club Deportivo Alemán Concepción\, El Venado 715\, Andalue\, Concepción\, Concepción\, 4030000\, Chile
CATEGORIES:Hockey
END:VEVENT
BEGIN:VEVENT
DTSTART;TZID=America/Santiago:20230806T120000
DTEND;TZID=America/Santiago:20230806T130000
DTSTAMP:20260424T051714
CREATED:20230801T211521Z
LAST-MODIFIED:20230801T211521Z
UID:51305-1691323200-1691326800@deportivoaleman.cl
SUMMARY:KINDERTAG | CELEBRACIÓN DÍA DEL NIÑO EN CDA
DESCRIPTION:
URL:https://deportivoaleman.cl/evento/kindertag-celebracion-dia-del-nino-en-cda/
LOCATION:Gimnasio Castellón\, Club Deportivo Alemán\, El Venado 715\, Andalue\, Concepción\, Concepción\, 4030000\, Chile
CATEGORIES:Corporativo
END:VEVENT
BEGIN:VEVENT
DTSTART;TZID=America/Santiago:20230814T200000
DTEND;TZID=America/Santiago:20230814T210000
DTSTAMP:20260424T051714
CREATED:20230809T174415Z
LAST-MODIFIED:20230809T174415Z
UID:51363-1692043200-1692046800@deportivoaleman.cl
SUMMARY:TALLER DANZA CUEQUERA | CLASE 1
DESCRIPTION:
URL:https://deportivoaleman.cl/evento/taller-danza-cuequera-clase-1/
LOCATION:Clubhaus Victoria\, El Venado 715\, Andalue\, 4030000\, Chile
CATEGORIES:Corporativo
END:VEVENT
BEGIN:VEVENT
DTSTART;TZID=America/Santiago:20230815T120000
DTEND;TZID=America/Santiago:20230815T140000
DTSTAMP:20260424T051714
CREATED:20230809T174050Z
LAST-MODIFIED:20230809T174050Z
UID:51361-1692100800-1692108000@deportivoaleman.cl
SUMMARY:BÁSQUETBOL | LIGA DESARROLLO
DESCRIPTION:
URL:https://deportivoaleman.cl/evento/basquetbol-liga-desarrollo/
LOCATION:Polideportivo Club Deportivo Alemán Concepción\, El Venado 715\, Andalue\, Concepción\, Concepción\, 4030000\, Chile
CATEGORIES:Básquetbol
END:VEVENT
BEGIN:VEVENT
DTSTART;VALUE=DATE:20230818
DTEND;VALUE=DATE:20230820
DTSTAMP:20260424T051714
CREATED:20230816T215615Z
LAST-MODIFIED:20230818T231638Z
UID:51400-1692316800-1692489599@deportivoaleman.cl
SUMMARY:PÁDEL | TORNEO AMERICANO DAMAS Y VARONES
DESCRIPTION:
URL:https://deportivoaleman.cl/evento/padel-torneo-americano-varones/
LOCATION:Polideportivo Club Deportivo Alemán Concepción\, El Venado 715\, Andalue\, Concepción\, Concepción\, 4030000\, Chile
CATEGORIES:Pádel
END:VEVENT
BEGIN:VEVENT
DTSTART;TZID=America/Santiago:20230818T180000
DTEND;TZID=America/Santiago:20230818T233000
DTSTAMP:20260424T051714
CREATED:20230817T145439Z
LAST-MODIFIED:20230817T145439Z
UID:51408-1692381600-1692401400@deportivoaleman.cl
SUMMARY:EN CABAÑA 9 | NOCHE DE TAROT Y DESCUENTO EN PISCOLA
DESCRIPTION:
URL:https://deportivoaleman.cl/evento/en-cabana-9-noche-de-tarot-y-descuento-en-piscola/
LOCATION:Polideportivo Club Deportivo Alemán Concepción\, El Venado 715\, Andalue\, Concepción\, Concepción\, 4030000\, Chile
CATEGORIES:Corporativo
END:VEVENT
BEGIN:VEVENT
DTSTART;VALUE=DATE:20230819
DTEND;VALUE=DATE:20230820
DTSTAMP:20260424T051714
CREATED:20230801T155304Z
LAST-MODIFIED:20230801T205719Z
UID:51273-1692403200-1692489599@deportivoaleman.cl
SUMMARY:G. RÍTMICA | "VIVE LA RÍTMICA" EN CDA
DESCRIPTION:
URL:https://deportivoaleman.cl/evento/g-ritmica-vive-la-ritmica-en-cda/
LOCATION:Polideportivo Club Deportivo Alemán Concepción\, El Venado 715\, Andalue\, Concepción\, Concepción\, 4030000\, Chile
CATEGORIES:Gimnasia Rítmica
END:VEVENT
BEGIN:VEVENT
DTSTART;TZID=America/Santiago:20230819T190000
DTEND;TZID=America/Santiago:20230819T210000
DTSTAMP:20260424T051714
CREATED:20230809T205622Z
LAST-MODIFIED:20230809T205938Z
UID:51366-1692471600-1692478800@deportivoaleman.cl
SUMMARY:HOCKEY | BINGO FAMILIAR
DESCRIPTION:
URL:https://deportivoaleman.cl/evento/hockey-bingo-familiar-en-g-castellon/
LOCATION:Polideportivo Club Deportivo Alemán Concepción\, El Venado 715\, Andalue\, Concepción\, Concepción\, 4030000\, Chile
CATEGORIES:Hockey
END:VEVENT
BEGIN:VEVENT
DTSTART;VALUE=DATE:20230825
DTEND;VALUE=DATE:20230827
DTSTAMP:20260424T051714
CREATED:20230822T220242Z
LAST-MODIFIED:20230822T220242Z
UID:51623-1692921600-1693094399@deportivoaleman.cl
SUMMARY:PÁDEL | LIGA GRANDES CLUBES EN CDA
DESCRIPTION:
URL:https://deportivoaleman.cl/evento/padel-liga-grandes-clubes-en-cda/
CATEGORIES:Pádel
END:VEVENT
BEGIN:VEVENT
DTSTART;TZID=America/Santiago:20230825T203000
DTEND;TZID=America/Santiago:20230825T223000
DTSTAMP:20260424T051714
CREATED:20230821T153935Z
LAST-MODIFIED:20230822T164011Z
UID:51428-1692995400-1693002600@deportivoaleman.cl
SUMMARY:BÁSQUETBOL | LIGA DESARROLLO U23 EN CDA
DESCRIPTION:
URL:https://deportivoaleman.cl/evento/basquetbol-liga-desarrollo-u23-en-cda/
LOCATION:Polideportivo Club Deportivo Alemán Concepción\, El Venado 715\, Andalue\, Concepción\, Concepción\, 4030000\, Chile
CATEGORIES:Básquetbol
END:VEVENT
BEGIN:VEVENT
DTSTART;VALUE=DATE:20230826
DTEND;VALUE=DATE:20230827
DTSTAMP:20260424T051714
CREATED:20230822T165430Z
LAST-MODIFIED:20230822T205241Z
UID:51456-1693008000-1693094399@deportivoaleman.cl
SUMMARY:REMO | NACIONAL REMO ERGÓMETRO EN PTO. MONTT
DESCRIPTION:
URL:https://deportivoaleman.cl/evento/remo-nacional-remo-ergometro-en-pto-montt/
CATEGORIES:Remo
END:VEVENT
BEGIN:VEVENT
DTSTART;VALUE=DATE:20230826
DTEND;VALUE=DATE:20230827
DTSTAMP:20260424T051714
CREATED:20230822T205450Z
LAST-MODIFIED:20230822T205910Z
UID:51564-1693008000-1693094399@deportivoaleman.cl
SUMMARY:TENIS | COPA DE LA AMISTAD - ALEMÁN VS UBB EN CDA
DESCRIPTION:
URL:https://deportivoaleman.cl/evento/tenis-copa-de-la-amistad-aleman-vs-ubb-en-cda/
LOCATION:Polideportivo Club Deportivo Alemán Concepción\, El Venado 715\, Andalue\, Concepción\, Concepción\, 4030000\, Chile
CATEGORIES:Tenis
END:VEVENT
BEGIN:VEVENT
DTSTART;TZID=America/Santiago:20230827T090000
DTEND;TZID=America/Santiago:20230827T170000
DTSTAMP:20260424T051714
CREATED:20230822T205025Z
LAST-MODIFIED:20230822T205025Z
UID:51561-1693126800-1693155600@deportivoaleman.cl
SUMMARY:HOCKEY | TORNEO NACIONAL EN CDA
DESCRIPTION:
URL:https://deportivoaleman.cl/evento/hockey-torneo-nacional-en-cda-2/
LOCATION:Polideportivo Club Deportivo Alemán Concepción\, El Venado 715\, Andalue\, Concepción\, Concepción\, 4030000\, Chile
CATEGORIES:Hockey
END:VEVENT
BEGIN:VEVENT
DTSTART;VALUE=DATE:20230902
DTEND;VALUE=DATE:20230903
DTSTAMP:20260424T051714
CREATED:20230829T175619Z
LAST-MODIFIED:20230829T175619Z
UID:51797-1693612800-1693699199@deportivoaleman.cl
SUMMARY:TAEKWONDO | COPA CDA
DESCRIPTION:
URL:https://deportivoaleman.cl/evento/taekwondo-copa-cda/
LOCATION:Polideportivo Club Deportivo Alemán Concepción\, El Venado 715\, Andalue\, Concepción\, Concepción\, 4030000\, Chile
CATEGORIES:Taekwondo
END:VEVENT
BEGIN:VEVENT
DTSTART;TZID=America/Santiago:20230902T100000
DTEND;TZID=America/Santiago:20230902T160000
DTSTAMP:20260424T051714
CREATED:20230831T163414Z
LAST-MODIFIED:20230831T163414Z
UID:51883-1693648800-1693670400@deportivoaleman.cl
SUMMARY:BASQUETBOL | JUEGOS NACIONALES ESCOLARES EN CDA
DESCRIPTION:
URL:https://deportivoaleman.cl/evento/basquetbol-juegos-nacionales-escolares-en-cda/
LOCATION:Polideportivo Club Deportivo Alemán Concepción\, El Venado 715\, Andalue\, Concepción\, Concepción\, 4030000\, Chile
CATEGORIES:Básquetbol
END:VEVENT
BEGIN:VEVENT
DTSTART;TZID=America/Santiago:20230903T090000
DTEND;TZID=America/Santiago:20230903T140000
DTSTAMP:20260424T051714
CREATED:20230830T224242Z
LAST-MODIFIED:20230830T224242Z
UID:51837-1693731600-1693749600@deportivoaleman.cl
SUMMARY:VOLEIBOL | TORNEO ASOVOCO EN CDA
DESCRIPTION:
URL:https://deportivoaleman.cl/evento/voleibol-torneo-asovoco-en-cda/
LOCATION:Polideportivo Club Deportivo Alemán Concepción\, El Venado 715\, Andalue\, Concepción\, Concepción\, 4030000\, Chile
CATEGORIES:Vóleibol
END:VEVENT
BEGIN:VEVENT
DTSTART;TZID=America/Santiago:20230903T090000
DTEND;TZID=America/Santiago:20230903T163000
DTSTAMP:20260424T051714
CREATED:20230830T204617Z
LAST-MODIFIED:20230830T204617Z
UID:51816-1693731600-1693758600@deportivoaleman.cl
SUMMARY:HOCKEY | TORNEO NACIONAL EN CDA
DESCRIPTION:
URL:https://deportivoaleman.cl/evento/hockey-torneo-nacional-en-cda-3/
CATEGORIES:Hockey
END:VEVENT
BEGIN:VEVENT
DTSTART;VALUE=DATE:20230908
DTEND;VALUE=DATE:20230910
DTSTAMP:20260424T051714
CREATED:20230907T234006Z
LAST-MODIFIED:20230907T234006Z
UID:51972-1694131200-1694303999@deportivoaleman.cl
SUMMARY:PÁDEL | TORNEO AMERICANO DAMAS Y VARONES EN CDA
DESCRIPTION:
URL:https://deportivoaleman.cl/evento/padel-torneo-americano-damas-y-varones-en-cda/
LOCATION:Polideportivo Club Deportivo Alemán Concepción\, El Venado 715\, Andalue\, Concepción\, Concepción\, 4030000\, Chile
CATEGORIES:Pádel
END:VEVENT
BEGIN:VEVENT
DTSTART;VALUE=DATE:20230908
DTEND;VALUE=DATE:20230910
DTSTAMP:20260424T051714
CREATED:20230907T235608Z
LAST-MODIFIED:20230907T235608Z
UID:51978-1694131200-1694303999@deportivoaleman.cl
SUMMARY:HOCKEY | TORNEO NACIONAL Y LIGA BIO BIO EN CDA
DESCRIPTION:
URL:https://deportivoaleman.cl/evento/hockey-torneo-nacional-y-liga-bio-bio-en-cda/
LOCATION:Polideportivo Club Deportivo Alemán Concepción\, El Venado 715\, Andalue\, Concepción\, Concepción\, 4030000\, Chile
CATEGORIES:Hockey
END:VEVENT
BEGIN:VEVENT
DTSTART;VALUE=DATE:20230908
DTEND;VALUE=DATE:20230913
DTSTAMP:20260424T051714
CREATED:20230907T235846Z
LAST-MODIFIED:20230907T235846Z
UID:51980-1694131200-1694563199@deportivoaleman.cl
SUMMARY:JUEGOS NACIONALES ESCOLARES EN CDA
DESCRIPTION:
URL:https://deportivoaleman.cl/evento/juegos-nacionales-escolares-en-cda/
LOCATION:Polideportivo Club Deportivo Alemán Concepción\, El Venado 715\, Andalue\, Concepción\, Concepción\, 4030000\, Chile
CATEGORIES:Corporativo
END:VEVENT
BEGIN:VEVENT
DTSTART;TZID=America/Santiago:20230908T210000
DTEND;TZID=America/Santiago:20230908T223000
DTSTAMP:20260424T051714
CREATED:20230907T235038Z
LAST-MODIFIED:20230907T235038Z
UID:51974-1694206800-1694212200@deportivoaleman.cl
SUMMARY:VOLEIBOL | TORNEO ASOVOCO MASTER VARONES EN CDA
DESCRIPTION:
URL:https://deportivoaleman.cl/evento/voleibol-torneo-asovoco-master-varones-en-cda/
LOCATION:Polideportivo Club Deportivo Alemán Concepción\, El Venado 715\, Andalue\, Concepción\, Concepción\, 4030000\, Chile
CATEGORIES:Vóleibol
END:VEVENT
BEGIN:VEVENT
DTSTART;TZID=America/Santiago:20230909T100000
DTEND;TZID=America/Santiago:20230909T130000
DTSTAMP:20260424T051714
CREATED:20230907T235441Z
LAST-MODIFIED:20230907T235441Z
UID:51976-1694253600-1694264400@deportivoaleman.cl
SUMMARY:FÚTBOL FEMENINO | TORNEO PROVINCIA DE CONCEPCIÓN EN CDA
DESCRIPTION:
URL:https://deportivoaleman.cl/evento/futbol-femenino-torneo-provincia-de-concepcion-en-cda/
LOCATION:Polideportivo Club Deportivo Alemán Concepción\, El Venado 715\, Andalue\, Concepción\, Concepción\, 4030000\, Chile
CATEGORIES:Fútbol
END:VEVENT
BEGIN:VEVENT
DTSTART;TZID=America/Santiago:20230915T180000
DTEND;TZID=America/Santiago:20230915T233000
DTSTAMP:20260424T051714
CREATED:20230914T204630Z
LAST-MODIFIED:20230914T204630Z
UID:52082-1694800800-1694820600@deportivoaleman.cl
SUMMARY:FIESTA | DESPEDIDA DIE KNEIPE 9
DESCRIPTION:
URL:https://deportivoaleman.cl/evento/fiesta-despedida-die-kneipe-9/
LOCATION:Polideportivo Club Deportivo Alemán Concepción\, El Venado 715\, Andalue\, Concepción\, Concepción\, 4030000\, Chile
CATEGORIES:Corporativo
END:VEVENT
BEGIN:VEVENT
DTSTART;VALUE=DATE:20230922
DTEND;VALUE=DATE:20230924
DTSTAMP:20260424T051714
CREATED:20230921T181907Z
LAST-MODIFIED:20230921T181907Z
UID:52095-1695340800-1695513599@deportivoaleman.cl
SUMMARY:HOCKEY | LIGA BIO BIO EN CDA
DESCRIPTION:
URL:https://deportivoaleman.cl/evento/hockey-liga-bio-bio-en-cda/
LOCATION:Polideportivo Club Deportivo Alemán Concepción\, El Venado 715\, Andalue\, Concepción\, Concepción\, 4030000\, Chile
CATEGORIES:Hockey
END:VEVENT
BEGIN:VEVENT
DTSTART;TZID=America/Santiago:20230922T160000
DTEND;TZID=America/Santiago:20230922T190000
DTSTAMP:20260424T051714
CREATED:20230921T203702Z
LAST-MODIFIED:20230921T203702Z
UID:52108-1695398400-1695409200@deportivoaleman.cl
SUMMARY:FÚTBOL FEMENINO | COPA PROVINCIA CONCEPCIÓN EN CDA
DESCRIPTION:
URL:https://deportivoaleman.cl/evento/futbol-femenino-copa-provincia-concepcion-en-cda/
LOCATION:Polideportivo Club Deportivo Alemán Concepción\, El Venado 715\, Andalue\, Concepción\, Concepción\, 4030000\, Chile
CATEGORIES:Fútbol
END:VEVENT
BEGIN:VEVENT
DTSTART;TZID=America/Santiago:20230923T090000
DTEND;TZID=America/Santiago:20230923T190000
DTSTAMP:20260424T051714
CREATED:20230921T182049Z
LAST-MODIFIED:20230921T182049Z
UID:52097-1695459600-1695495600@deportivoaleman.cl
SUMMARY:VOLEIBOL | TORNEO ASOVOCO U15 EN CDA
DESCRIPTION:
URL:https://deportivoaleman.cl/evento/voleibol-torneo-asovoco-u15-en-cda/
CATEGORIES:Vóleibol
END:VEVENT
BEGIN:VEVENT
DTSTART;TZID=America/Santiago:20230924T090000
DTEND;TZID=America/Santiago:20230924T150000
DTSTAMP:20260424T051714
CREATED:20230921T182209Z
LAST-MODIFIED:20230921T182310Z
UID:52100-1695546000-1695567600@deportivoaleman.cl
SUMMARY:BASQUETBOL | LIGA BIO BIO EN CDA
DESCRIPTION:
URL:https://deportivoaleman.cl/evento/basquetbol-liga-bio-bio-en-cda/
LOCATION:Polideportivo Club Deportivo Alemán Concepción\, El Venado 715\, Andalue\, Concepción\, Concepción\, 4030000\, Chile
CATEGORIES:Básquetbol
END:VEVENT
BEGIN:VEVENT
DTSTART;TZID=America/Santiago:20230924T090000
DTEND;TZID=America/Santiago:20230924T150000
DTSTAMP:20260424T051714
CREATED:20230921T182250Z
LAST-MODIFIED:20230921T182250Z
UID:52102-1695546000-1695567600@deportivoaleman.cl
SUMMARY:HANDBALL | TORNEO SUPER 8 EN CDA
DESCRIPTION:
URL:https://deportivoaleman.cl/evento/handball-torneo-super-8-en-cda/
LOCATION:Polideportivo Club Deportivo Alemán Concepción\, El Venado 715\, Andalue\, Concepción\, Concepción\, 4030000\, Chile
CATEGORIES:Handball
END:VEVENT
END:VCALENDAR