BEGIN:VCALENDAR
VERSION:2.0
PRODID:-//Club Deportivo Alemán - ECPv6.15.20//NONSGML v1.0//EN
CALSCALE:GREGORIAN
METHOD:PUBLISH
X-ORIGINAL-URL:https://deportivoaleman.cl
X-WR-CALDESC:Eventos para Club Deportivo Alemán
REFRESH-INTERVAL;VALUE=DURATION:PT1H
X-Robots-Tag:noindex
X-PUBLISHED-TTL:PT1H
BEGIN:VTIMEZONE
TZID:America/Halifax
BEGIN:DAYLIGHT
TZOFFSETFROM:-0400
TZOFFSETTO:-0300
TZNAME:ADT
DTSTART:20200308T060000
END:DAYLIGHT
BEGIN:STANDARD
TZOFFSETFROM:-0300
TZOFFSETTO:-0400
TZNAME:AST
DTSTART:20201101T050000
END:STANDARD
BEGIN:DAYLIGHT
TZOFFSETFROM:-0400
TZOFFSETTO:-0300
TZNAME:ADT
DTSTART:20210314T060000
END:DAYLIGHT
BEGIN:STANDARD
TZOFFSETFROM:-0300
TZOFFSETTO:-0400
TZNAME:AST
DTSTART:20211107T050000
END:STANDARD
BEGIN:DAYLIGHT
TZOFFSETFROM:-0400
TZOFFSETTO:-0300
TZNAME:ADT
DTSTART:20220313T060000
END:DAYLIGHT
BEGIN:STANDARD
TZOFFSETFROM:-0300
TZOFFSETTO:-0400
TZNAME:AST
DTSTART:20221106T050000
END:STANDARD
END:VTIMEZONE
BEGIN:VTIMEZONE
TZID:America/Santiago
BEGIN:STANDARD
TZOFFSETFROM:-0300
TZOFFSETTO:-0400
TZNAME:-04
DTSTART:20210404T030000
END:STANDARD
BEGIN:DAYLIGHT
TZOFFSETFROM:-0400
TZOFFSETTO:-0300
TZNAME:-03
DTSTART:20210905T040000
END:DAYLIGHT
BEGIN:STANDARD
TZOFFSETFROM:-0300
TZOFFSETTO:-0400
TZNAME:-04
DTSTART:20220403T030000
END:STANDARD
BEGIN:DAYLIGHT
TZOFFSETFROM:-0400
TZOFFSETTO:-0300
TZNAME:-03
DTSTART:20220904T040000
END:DAYLIGHT
BEGIN:STANDARD
TZOFFSETFROM:-0300
TZOFFSETTO:-0400
TZNAME:-04
DTSTART:20230402T030000
END:STANDARD
BEGIN:DAYLIGHT
TZOFFSETFROM:-0400
TZOFFSETTO:-0300
TZNAME:-03
DTSTART:20230903T040000
END:DAYLIGHT
END:VTIMEZONE
BEGIN:VEVENT
DTSTART;TZID=America/Halifax:20210814T080000
DTEND;TZID=America/Halifax:20210814T170000
DTSTAMP:20260425T193301
CREATED:20210629T164729Z
LAST-MODIFIED:20210629T164736Z
UID:38643-1628928000-1628960400@deportivoaleman.cl
SUMMARY:Primer Campeonato Nacional de Gimnasia Rítmica On Line / Fase 2: Dificultades
DESCRIPTION:
URL:https://deportivoaleman.cl/evento/primer-campeonato-nacional-de-gimnasia-ritmica-on-line-fase-dificultades/
CATEGORIES:Gimnasia Rítmica
END:VEVENT
BEGIN:VEVENT
DTSTART;TZID=America/Halifax:20210828T090000
DTEND;TZID=America/Halifax:20210828T133000
DTSTAMP:20260425T193301
CREATED:20210826T155316Z
LAST-MODIFIED:20210826T155404Z
UID:39212-1630141200-1630157400@deportivoaleman.cl
SUMMARY:Partidos amistosos de Vóleibol / Polideportivo CDA
DESCRIPTION:Varones juveniles: 09:00-10:30 hrs. CDA v/s ADT Coronel\, en gimnasio Castellón. El objetivo es preparar al plantel con vistas al torneo clasificatorio sub 19 que definirá al representante regional masculino en JJAA 2021.\n\n\nMenores varones: 12:00-13:30 hrs. CDA v/s Club Rucalhue Coronel\, en gimnasio Castellón.\n\n\nSelección damas: 12:00-13:30 hrs. CDA v/s Club Huachipato\, en gimnasio Otto. En el marco de la preparación de nuestro plantel para competir en la Liga Nacional A1 que inicia el 10 de septiembre.
URL:https://deportivoaleman.cl/evento/partidos-amistosos-de-voleibol-polideportivo-cda/
CATEGORIES:Vóleibol
END:VEVENT
BEGIN:VEVENT
DTSTART;TZID=America/Halifax:20210904T080000
DTEND;TZID=America/Halifax:20210905T170000
DTSTAMP:20260425T193301
CREATED:20210826T155442Z
LAST-MODIFIED:20210826T155442Z
UID:39215-1630742400-1630861200@deportivoaleman.cl
SUMMARY:Regata "Héroes de Iquique" / Laguna Chica
DESCRIPTION:
URL:https://deportivoaleman.cl/evento/regata-heroes-de-iquique-laguna-chica/
CATEGORIES:Remo
END:VEVENT
BEGIN:VEVENT
DTSTART;TZID=America/Halifax:20210928T080000
DTEND;TZID=America/Halifax:20210928T170000
DTSTAMP:20260425T193301
CREATED:20210928T134746Z
LAST-MODIFIED:20210928T134746Z
UID:39565-1632816000-1632848400@deportivoaleman.cl
SUMMARY:Mini Torneo Fútbol Menores / Estadio Español
DESCRIPTION:
URL:https://deportivoaleman.cl/evento/mini-torneo-futbol-menores-estadio-espanol/
END:VEVENT
BEGIN:VEVENT
DTSTART;TZID=America/Halifax:20211002T120000
DTEND;TZID=America/Halifax:20211002T140000
DTSTAMP:20260425T193301
CREATED:20210928T123725Z
LAST-MODIFIED:20210928T123725Z
UID:39546-1633176000-1633183200@deportivoaleman.cl
SUMMARY:Torneo Nacional de Hockey / CDA v/s PWCC A / Santiago
DESCRIPTION:
URL:https://deportivoaleman.cl/evento/torneo-nacional-de-hockey-cda-v-s-pwcc-a-santiago/
CATEGORIES:Hockey
END:VEVENT
BEGIN:VEVENT
DTSTART;TZID=America/Halifax:20211002T143000
DTEND;TZID=America/Halifax:20211002T170000
DTSTAMP:20260425T193301
CREATED:20210928T123515Z
LAST-MODIFIED:20210928T123515Z
UID:39542-1633185000-1633194000@deportivoaleman.cl
SUMMARY:Tercera Fecha Liga A1 de Vóleibol / CDA v/s Colo Colo / CEO Ñuñoa-Santiago
DESCRIPTION:
URL:https://deportivoaleman.cl/evento/tercera-fecha-liga-a1-de-voleibol-cda-v-s-colo-colo-ceo-nunoa-santiago/
CATEGORIES:Vóleibol
END:VEVENT
BEGIN:VEVENT
DTSTART;TZID=America/Halifax:20211002T153000
DTEND;TZID=America/Halifax:20211002T170000
DTSTAMP:20260425T193301
CREATED:20210928T123838Z
LAST-MODIFIED:20210928T123838Z
UID:39548-1633188600-1633194000@deportivoaleman.cl
SUMMARY:Torneo Nacional de Hockey / CDA Intermedia Damas v/s PWCC B / Cancha Azul CDA
DESCRIPTION:
URL:https://deportivoaleman.cl/evento/torneo-nacional-de-hockey-cda-intermedia-damas-v-s-pwcc-b-cancha-azul-cda/
CATEGORIES:Hockey
END:VEVENT
BEGIN:VEVENT
DTSTART;TZID=America/Halifax:20211002T180000
DTEND;TZID=America/Halifax:20211002T193000
DTSTAMP:20260425T193301
CREATED:20210928T124135Z
LAST-MODIFIED:20210928T124135Z
UID:39552-1633197600-1633203000@deportivoaleman.cl
SUMMARY:Torneo Nacional de Hockey / CDA Intermedia Varones v/s Kolbe / Cancha Azul CDA
DESCRIPTION:
URL:https://deportivoaleman.cl/evento/torneo-nacional-de-hockey-cda-intermedia-varones-v-s-kolbe-cancha-azul-cda/
CATEGORIES:Hockey
END:VEVENT
BEGIN:VEVENT
DTSTART;TZID=America/Halifax:20211003T123000
DTEND;TZID=America/Halifax:20211003T140000
DTSTAMP:20260425T193301
CREATED:20210928T123607Z
LAST-MODIFIED:20210928T123607Z
UID:39544-1633264200-1633269600@deportivoaleman.cl
SUMMARY:Cuarta Fecha Liga A1 de Vóleibol / CDA v/s Murano / CEO Ñuñoa-Santiago
DESCRIPTION:
URL:https://deportivoaleman.cl/evento/cuarta-fecha-liga-a1-de-voleibol-cda-v-s-murano-ceo-nunoa-santiago/
CATEGORIES:Vóleibol
END:VEVENT
BEGIN:VEVENT
DTSTART;TZID=America/Halifax:20211003T130000
DTEND;TZID=America/Halifax:20211003T143000
DTSTAMP:20260425T193301
CREATED:20210928T124039Z
LAST-MODIFIED:20210928T124039Z
UID:39550-1633266000-1633271400@deportivoaleman.cl
SUMMARY:Torneo Nacional de Hockey / CDA Intermedia Damas v/s PWCC D / Cancha Azul CDA
DESCRIPTION:
URL:https://deportivoaleman.cl/evento/torneo-nacional-de-hockey-cda-intermedia-damas-v-s-pwcc-d-cancha-azul-cda/
CATEGORIES:Hockey
END:VEVENT
BEGIN:VEVENT
DTSTART;TZID=America/Halifax:20211003T160000
DTEND;TZID=America/Halifax:20211003T173000
DTSTAMP:20260425T193301
CREATED:20210928T124215Z
LAST-MODIFIED:20210928T124215Z
UID:39554-1633276800-1633282200@deportivoaleman.cl
SUMMARY:Torneo Nacional de Hockey / CDA Intermedia Varones v/s Halcones / Cancha Azul CDA
DESCRIPTION:
URL:https://deportivoaleman.cl/evento/torneo-nacional-de-hockey-cda-intermedia-varones-v-s-halcones-cancha-azul-cda/
CATEGORIES:Hockey
END:VEVENT
BEGIN:VEVENT
DTSTART;TZID=America/Halifax:20211009T080000
DTEND;TZID=America/Halifax:20211009T170000
DTSTAMP:20260425T193301
CREATED:20210629T164826Z
LAST-MODIFIED:20210629T164826Z
UID:38646-1633766400-1633798800@deportivoaleman.cl
SUMMARY:Primer Campeonato Nacional de Gimnasia Rítmica On Line / Fase 3: All Around Zonal
DESCRIPTION:
URL:https://deportivoaleman.cl/evento/primer-campeonato-nacional-de-gimnasia-ritmica-on-line-fase-3-all-around-zonal/
CATEGORIES:Gimnasia Rítmica
END:VEVENT
BEGIN:VEVENT
DTSTART;TZID=America/Halifax:20211016T080000
DTEND;TZID=America/Halifax:20211017T170000
DTSTAMP:20260425T193301
CREATED:20210928T130217Z
LAST-MODIFIED:20210928T130217Z
UID:39556-1634371200-1634490000@deportivoaleman.cl
SUMMARY:Campeonato de Gimnasia Artística / Estadio Español Chiguayante
DESCRIPTION:
URL:https://deportivoaleman.cl/evento/campeonato-de-gimnasia-artistica-estadio-espanol-chiguayante/
CATEGORIES:Gimnasia Artística
END:VEVENT
BEGIN:VEVENT
DTSTART;TZID=America/Halifax:20211023T100000
DTEND;TZID=America/Halifax:20211023T123000
DTSTAMP:20260425T193301
CREATED:20211020T133055Z
LAST-MODIFIED:20211020T133055Z
UID:39820-1634983200-1634992200@deportivoaleman.cl
SUMMARY:Festival de Fútbol Sub 11 / Colegio Inglés
DESCRIPTION:
URL:https://deportivoaleman.cl/evento/festival-de-futbol-sub-11-colegio-ingles/
CATEGORIES:Fútbol
END:VEVENT
BEGIN:VEVENT
DTSTART;TZID=America/Halifax:20211023T100000
DTEND;TZID=America/Halifax:20211023T130000
DTSTAMP:20260425T193301
CREATED:20211020T133216Z
LAST-MODIFIED:20211020T133216Z
UID:39822-1634983200-1634994000@deportivoaleman.cl
SUMMARY:Final mes de la hispanidad fútbol Escuelita / Estadio Español Chiguayante
DESCRIPTION:
URL:https://deportivoaleman.cl/evento/final-mes-de-la-hispanidad-futbol-escuelita-estadio-espanol-chiguayante/
CATEGORIES:Fútbol
END:VEVENT
BEGIN:VEVENT
DTSTART;TZID=America/Halifax:20211023T100000
DTEND;TZID=America/Halifax:20211023T170000
DTSTAMP:20260425T193301
CREATED:20211020T133843Z
LAST-MODIFIED:20211020T133914Z
UID:39826-1634983200-1635008400@deportivoaleman.cl
SUMMARY:Cuadrangular Amistoso de Vóleibol Sub 16 damas / Colegio San Ignacio
DESCRIPTION:Equipos: UDEC-CDA-Trekan Los Ángeles-Club Voley Bio Bío \n 
URL:https://deportivoaleman.cl/evento/cuadrangular-amistoso-de-voleibol-sub-16-damas-colegio-san-ignacio/
CATEGORIES:Vóleibol
END:VEVENT
BEGIN:VEVENT
DTSTART;TZID=America/Halifax:20211023T140000
DTEND;TZID=America/Halifax:20211023T183000
DTSTAMP:20260425T193301
CREATED:20211021T123417Z
LAST-MODIFIED:20211021T123417Z
UID:39843-1634997600-1635013800@deportivoaleman.cl
SUMMARY:Liga Bio Bío de Básquetbol Sub 13 y Sub 17 / Colegio San Ignacio
DESCRIPTION:
URL:https://deportivoaleman.cl/evento/liga-bio-bio-de-basquetbol-sub-13-y-sub-17-colegio-san-ignacio/
CATEGORIES:Básquetbol
END:VEVENT
BEGIN:VEVENT
DTSTART;TZID=America/Halifax:20211023T160000
DTEND;TZID=America/Halifax:20211023T173000
DTSTAMP:20260425T193301
CREATED:20211020T132232Z
LAST-MODIFIED:20211020T132232Z
UID:39810-1635004800-1635010200@deportivoaleman.cl
SUMMARY:Torneo Nacional de Hockey / CDA Intermedia Damas v/s UC / Universidad Católica
DESCRIPTION:
URL:https://deportivoaleman.cl/evento/torneo-nacional-de-hockey-cda-intermedia-damas-v-s-uc-universidad-catolica/
CATEGORIES:Hockey
END:VEVENT
BEGIN:VEVENT
DTSTART;TZID=America/Halifax:20211023T173000
DTEND;TZID=America/Halifax:20211023T190000
DTSTAMP:20260425T193301
CREATED:20211020T132813Z
LAST-MODIFIED:20211020T132813Z
UID:39818-1635010200-1635015600@deportivoaleman.cl
SUMMARY:Liga Bio Bío de Hockey Adultas / CDA v/s Country Club Concepción / Cancha Azul CDA
DESCRIPTION:
URL:https://deportivoaleman.cl/evento/liga-bio-bio-de-hockey-adultas-cda-v-s-country-club-concepcion-cancha-azul-cda/
CATEGORIES:Hockey
END:VEVENT
BEGIN:VEVENT
DTSTART;TZID=America/Halifax:20211023T183000
DTEND;TZID=America/Halifax:20211023T200000
DTSTAMP:20260425T193301
CREATED:20211020T132423Z
LAST-MODIFIED:20211021T141351Z
UID:39814-1635013800-1635019200@deportivoaleman.cl
SUMMARY:Torneo Nacional de Hockey / CDA v/s Manquehue C / Santiago
DESCRIPTION:
URL:https://deportivoaleman.cl/evento/torneo-nacional-de-hockey-cda-v-s-manquehue-santiago/
CATEGORIES:Hockey
END:VEVENT
BEGIN:VEVENT
DTSTART;TZID=America/Halifax:20211024T090000
DTEND;TZID=America/Halifax:20211024T130000
DTSTAMP:20260425T193301
CREATED:20211020T132623Z
LAST-MODIFIED:20211020T132623Z
UID:39816-1635066000-1635080400@deportivoaleman.cl
SUMMARY:Torneo Nacional Hockey Juvenil / CDA Sub 12\, Sub 14 y Sub 16 v/s Alumni / Cancha Azul CDA
DESCRIPTION:
URL:https://deportivoaleman.cl/evento/torneo-nacional-hockey-juvenil-cda-sub-12-sub-14-y-sub-16-v-s-alumni-cancha-azul-cda/
CATEGORIES:Hockey
END:VEVENT
BEGIN:VEVENT
DTSTART;TZID=America/Halifax:20211024T093000
DTEND;TZID=America/Halifax:20211024T170000
DTSTAMP:20260425T193301
CREATED:20211021T122529Z
LAST-MODIFIED:20211021T122529Z
UID:39841-1635067800-1635094800@deportivoaleman.cl
SUMMARY:Encuentro de Vóleibol Máster damas / Estadio Español de Chiguayante
DESCRIPTION:
URL:https://deportivoaleman.cl/evento/encuentro-de-voleibol-master-damas-estadio-espanol-de-chiguayante/
CATEGORIES:Vóleibol
END:VEVENT
BEGIN:VEVENT
DTSTART;TZID=America/Halifax:20211024T100000
DTEND;TZID=America/Halifax:20211024T140000
DTSTAMP:20260425T193301
CREATED:20211020T133423Z
LAST-MODIFIED:20211020T133423Z
UID:39824-1635069600-1635084000@deportivoaleman.cl
SUMMARY:Triangular de Fútbol 67º aniversario de Llacolén / Club Deportivo Llacolén
DESCRIPTION:Categorías: \n\nEscuelita\nSub 9\nsub 11\nsub 13\nsub 15\nFemenina Adultas
URL:https://deportivoaleman.cl/evento/triangular-de-futbol-67o-aniversario-de-llacolen-club-deportivo-llacolen/
CATEGORIES:Fútbol
END:VEVENT
BEGIN:VEVENT
DTSTART;TZID=America/Halifax:20211024T100000
DTEND;TZID=America/Halifax:20211024T140000
DTSTAMP:20260425T193301
CREATED:20211020T134134Z
LAST-MODIFIED:20211021T120618Z
UID:39829-1635069600-1635084000@deportivoaleman.cl
SUMMARY:Triangular amistoso Sub 14 damas / CDA
DESCRIPTION:CDA-Linares-Trekan Los Ángeles
URL:https://deportivoaleman.cl/evento/triangular-amistoso-sub-14-damas-cda/
CATEGORIES:Vóleibol
END:VEVENT
BEGIN:VEVENT
DTSTART;TZID=America/Halifax:20211024T100000
DTEND;TZID=America/Halifax:20211024T140000
DTSTAMP:20260425T193301
CREATED:20211021T120901Z
LAST-MODIFIED:20211021T120901Z
UID:39839-1635069600-1635084000@deportivoaleman.cl
SUMMARY:Encuentros Preparación Selección Bio Bío Damas para Juegos Araucanía / Gimnasio Otto
DESCRIPTION:
URL:https://deportivoaleman.cl/evento/encuentros-preparacion-seleccion-bio-bio-damas-para-juegos-araucania-gimnasio-otto/
CATEGORIES:Vóleibol
END:VEVENT
BEGIN:VEVENT
DTSTART;TZID=America/Halifax:20211024T113000
DTEND;TZID=America/Halifax:20211024T130000
DTSTAMP:20260425T193301
CREATED:20211020T132320Z
LAST-MODIFIED:20211021T141221Z
UID:39812-1635075000-1635080400@deportivoaleman.cl
SUMMARY:Torneo Nacional de Hockey / CDA Intermedia Damas v/s COGS A / COGS
DESCRIPTION:
URL:https://deportivoaleman.cl/evento/torneo-nacional-de-hockey-cda-intermedia-damas-v-s-cogs-a-cogs/
CATEGORIES:Hockey
END:VEVENT
BEGIN:VEVENT
DTSTART;TZID=America/Halifax:20211025T210000
DTEND;TZID=America/Halifax:20211025T223000
DTSTAMP:20260425T193301
CREATED:20211020T132056Z
LAST-MODIFIED:20211020T132056Z
UID:39808-1635195600-1635201000@deportivoaleman.cl
SUMMARY:Torneo Nacional de Hockey / CDA Intermedia Varones v/s Amanecer / Cancha Azul CDA
DESCRIPTION:
URL:https://deportivoaleman.cl/evento/torneo-nacional-de-hockey-cda-intermedia-varones-v-s-amanecer-cancha-azul-cda/
CATEGORIES:Hockey
END:VEVENT
BEGIN:VEVENT
DTSTART;TZID=America/Halifax:20211113T080000
DTEND;TZID=America/Halifax:20211113T170000
DTSTAMP:20260425T193301
CREATED:20210629T164919Z
LAST-MODIFIED:20210629T164919Z
UID:38648-1636790400-1636822800@deportivoaleman.cl
SUMMARY:Primer Campeonato Nacional de Gimnasia Rítmica On Line / Fase 4: Final Nacional Chile
DESCRIPTION:
URL:https://deportivoaleman.cl/evento/primer-campeonato-nacional-de-gimnasia-ritmica-on-line-fase-4-final-nacional-chile/
CATEGORIES:Gimnasia Rítmica
END:VEVENT
BEGIN:VEVENT
DTSTART;TZID=America/Halifax:20211127T080000
DTEND;TZID=America/Halifax:20211127T170000
DTSTAMP:20260425T193301
CREATED:20210629T165000Z
LAST-MODIFIED:20210629T165000Z
UID:38650-1638000000-1638032400@deportivoaleman.cl
SUMMARY:Primer Campeonato Nacional de Gimnasia Rítmica On Line / Fase 5: Final Sudamericana
DESCRIPTION:
URL:https://deportivoaleman.cl/evento/primer-campeonato-nacional-de-gimnasia-ritmica-on-line-fase-5-final-sudamericana/
CATEGORIES:Gimnasia Rítmica
END:VEVENT
BEGIN:VEVENT
DTSTART;TZID=America/Santiago:20220402T160000
DTEND;TZID=America/Santiago:20220402T200000
DTSTAMP:20260425T193301
CREATED:20220331T120550Z
LAST-MODIFIED:20220331T133034Z
UID:41263-1648915200-1648929600@deportivoaleman.cl
SUMMARY:Hockey CDA contra Manquehue A y Pumas
DESCRIPTION:
URL:https://deportivoaleman.cl/evento/hockey-cda-vs-manquehue-a/
CATEGORIES:Hockey
END:VEVENT
END:VCALENDAR