BEGIN:VCALENDAR
VERSION:2.0
PRODID:-//Club Deportivo Alemán - ECPv6.15.20//NONSGML v1.0//EN
CALSCALE:GREGORIAN
METHOD:PUBLISH
X-WR-CALNAME:Club Deportivo Alemán
X-ORIGINAL-URL:https://deportivoaleman.cl
X-WR-CALDESC:Eventos para Club Deportivo Alemán
REFRESH-INTERVAL;VALUE=DURATION:PT1H
X-Robots-Tag:noindex
X-PUBLISHED-TTL:PT1H
BEGIN:VTIMEZONE
TZID:America/Santiago
BEGIN:STANDARD
TZOFFSETFROM:-0300
TZOFFSETTO:-0400
TZNAME:-04
DTSTART:20230402T030000
END:STANDARD
BEGIN:DAYLIGHT
TZOFFSETFROM:-0400
TZOFFSETTO:-0300
TZNAME:-03
DTSTART:20230903T040000
END:DAYLIGHT
BEGIN:STANDARD
TZOFFSETFROM:-0300
TZOFFSETTO:-0400
TZNAME:-04
DTSTART:20240407T030000
END:STANDARD
BEGIN:DAYLIGHT
TZOFFSETFROM:-0400
TZOFFSETTO:-0300
TZNAME:-03
DTSTART:20240908T040000
END:DAYLIGHT
BEGIN:STANDARD
TZOFFSETFROM:-0300
TZOFFSETTO:-0400
TZNAME:-04
DTSTART:20250406T030000
END:STANDARD
BEGIN:DAYLIGHT
TZOFFSETFROM:-0400
TZOFFSETTO:-0300
TZNAME:-03
DTSTART:20250907T040000
END:DAYLIGHT
END:VTIMEZONE
BEGIN:VEVENT
DTSTART;TZID=America/Santiago:20240303T130000
DTEND;TZID=America/Santiago:20240303T160000
DTSTAMP:20260423T184519
CREATED:20240229T152640Z
LAST-MODIFIED:20240229T152649Z
UID:54935-1709470800-1709481600@deportivoaleman.cl
SUMMARY:HOCKEY | PARTIDOS AMISTOSOS PLANTEL DE HONOR EN CDA
DESCRIPTION:
URL:https://deportivoaleman.cl/evento/hockey-partidos-amistosos-plantel-de-honor/
CATEGORIES:Hockey
END:VEVENT
BEGIN:VEVENT
DTSTART;TZID=America/Santiago:20240307T080000
DTEND;TZID=America/Santiago:20240310T220000
DTSTAMP:20260423T184519
CREATED:20240229T152011Z
LAST-MODIFIED:20240229T152011Z
UID:54933-1709798400-1710108000@deportivoaleman.cl
SUMMARY:VOLEIBOL | VIII VERSIÓN COPA ALEMANIA EN CDA
DESCRIPTION:
URL:https://deportivoaleman.cl/evento/voleibol-viii-version-copa-alemania-en-cda/
LOCATION:Polideportivo Club Deportivo Alemán Concepción\, El Venado 715\, Andalue\, Concepción\, Concepción\, 4030000\, Chile
CATEGORIES:Vóleibol
END:VEVENT
BEGIN:VEVENT
DTSTART;TZID=America/Santiago:20240308T120000
DTEND;TZID=America/Santiago:20240308T233000
DTSTAMP:20260423T184519
CREATED:20240306T142922Z
LAST-MODIFIED:20240306T162831Z
UID:55158-1709899200-1709940600@deportivoaleman.cl
SUMMARY:DÍA DE LA MUJER EN CLUBHAUS | MÚSICA EN VIVO Y PROMOCIÓN EN ESPUMANTE
DESCRIPTION:
URL:https://deportivoaleman.cl/evento/dia-de-la-mujer-en-clubhaus-musica-en-vivo-y-promocion-en-espumante/
CATEGORIES:Corporativo,Mundo Socios
END:VEVENT
BEGIN:VEVENT
DTSTART;TZID=America/Santiago:20240308T180000
DTEND;TZID=America/Santiago:20240308T210000
DTSTAMP:20260423T184519
CREATED:20240301T215909Z
LAST-MODIFIED:20240301T215909Z
UID:55105-1709920800-1709931600@deportivoaleman.cl
SUMMARY:BAZAR DE CHICAS | FERIA DE EMPRENDIMIENTOS EN CLUBHAUS
DESCRIPTION:
URL:https://deportivoaleman.cl/evento/bazar-de-chicas-feria-de-emprendimientos-en-clubhaus/
LOCATION:BIERSTUBE CLUBHAUS
CATEGORIES:Corporativo,Mundo Socios
END:VEVENT
BEGIN:VEVENT
DTSTART;TZID=America/Santiago:20240309T100000
DTEND;TZID=America/Santiago:20240309T130000
DTSTAMP:20260423T184519
CREATED:20240221T212001Z
LAST-MODIFIED:20240227T190904Z
UID:54900-1709978400-1709989200@deportivoaleman.cl
SUMMARY:FERIA DE VENTA E INTERCAMBIO DE UNIFORMES E IMPLEMENTOS DEPORTIVOS
DESCRIPTION:
URL:https://deportivoaleman.cl/evento/feria-de-venta-e-intercambio-de-uniformes-e-implementos-deportivos/
LOCATION:Polideportivo Club Deportivo Alemán Concepción\, El Venado 715\, Andalue\, Concepción\, Concepción\, 4030000\, Chile
CATEGORIES:Ballet,Básquetbol,Corporativo,Fútbol,Gimnasia Artística,Gimnasia Rítmica,Hockey,Pádel,Ramas,Remo,Taekwondo,Talleres,Tenis,Vóleibol
END:VEVENT
BEGIN:VEVENT
DTSTART;TZID=America/Santiago:20240309T140000
DTEND;TZID=America/Santiago:20240310T200000
DTSTAMP:20260423T184519
CREATED:20240306T212118Z
LAST-MODIFIED:20240306T212118Z
UID:55168-1709992800-1710100800@deportivoaleman.cl
SUMMARY:HOCKEY | TORNEO MASTER EN CDA
DESCRIPTION:
URL:https://deportivoaleman.cl/evento/hockey-torneo-master-en-cda/
LOCATION:Polideportivo Club Deportivo Alemán Concepción\, El Venado 715\, Andalue\, Concepción\, Concepción\, 4030000\, Chile
CATEGORIES:Hockey
END:VEVENT
BEGIN:VEVENT
DTSTART;TZID=America/Santiago:20240316T190000
DTEND;TZID=America/Santiago:20240316T233000
DTSTAMP:20260423T184519
CREATED:20240313T153119Z
LAST-MODIFIED:20240313T153119Z
UID:55190-1710615600-1710631800@deportivoaleman.cl
SUMMARY:SUNSET VICTORIA | EVENTO FAMILIAR EN ZONA PLAYA
DESCRIPTION:
URL:https://deportivoaleman.cl/evento/sunset-victoria-evento-familiar-en-zona-playa/
CATEGORIES:Corporativo,Mundo Socios
END:VEVENT
BEGIN:VEVENT
DTSTART;TZID=America/Santiago:20240321T070000
DTEND;TZID=America/Santiago:20240324T233000
DTSTAMP:20260423T184519
CREATED:20240320T191449Z
LAST-MODIFIED:20240320T191449Z
UID:55330-1711004400-1711323000@deportivoaleman.cl
SUMMARY:REMO | SUDAMERICANO MASTER EN LAGUNA CHICA SAN PEDRO DE LA PAZ
DESCRIPTION:
URL:https://deportivoaleman.cl/evento/remo-sudamericano-master-en-laguna-chica-san-pedro-de-la-paz/
CATEGORIES:Remo
END:VEVENT
BEGIN:VEVENT
DTSTART;TZID=America/Santiago:20240321T183000
DTEND;TZID=America/Santiago:20240321T193000
DTSTAMP:20260423T184519
CREATED:20240319T143039Z
LAST-MODIFIED:20240319T143039Z
UID:55319-1711045800-1711049400@deportivoaleman.cl
SUMMARY:BIERSTUBE | EXPOSICIÓN DE ARTE AUGUSTO PUGA
DESCRIPTION:
URL:https://deportivoaleman.cl/evento/bierstube-exposicion-de-arte-augusto-puga/
CATEGORIES:Corporativo,Mundo Socios
END:VEVENT
BEGIN:VEVENT
DTSTART;TZID=America/Santiago:20240322T160000
DTEND;TZID=America/Santiago:20240324T220000
DTSTAMP:20260423T184519
CREATED:20240320T192343Z
LAST-MODIFIED:20240320T192452Z
UID:55335-1711123200-1711317600@deportivoaleman.cl
SUMMARY:VOLEIBOL | LIGA NACIONAL DE MENORES EN CDA
DESCRIPTION:
URL:https://deportivoaleman.cl/evento/voleibol-liname-damas-u17-en-cda/
CATEGORIES:Vóleibol
END:VEVENT
BEGIN:VEVENT
DTSTART;VALUE=DATE:20240323
DTEND;VALUE=DATE:20240324
DTSTAMP:20260423T184519
CREATED:20240320T193720Z
LAST-MODIFIED:20240320T193720Z
UID:55339-1711152000-1711238399@deportivoaleman.cl
SUMMARY:FÚTBOL | COPA INTEGRACIÓN FRENTE A DEPORTES CONCEPCIÓN
DESCRIPTION:
URL:https://deportivoaleman.cl/evento/futbol-copa-integracion-frente-a-deportes-concepcion/
CATEGORIES:Fútbol
END:VEVENT
BEGIN:VEVENT
DTSTART;TZID=America/Santiago:20240323T190000
DTEND;TZID=America/Santiago:20240323T210000
DTSTAMP:20260423T184519
CREATED:20240320T191804Z
LAST-MODIFIED:20240320T191804Z
UID:55332-1711220400-1711227600@deportivoaleman.cl
SUMMARY:BÁSQUETBOL | LNB2 - ALEMÁN FRENTE A MUNICIPAL CHILLÁN EN CDA
DESCRIPTION:
URL:https://deportivoaleman.cl/evento/basquetbol-lnb2-aleman-frente-a-municipal-chillan-en-cda/
CATEGORIES:Básquetbol
END:VEVENT
BEGIN:VEVENT
DTSTART;TZID=America/Santiago:20240330T110000
DTEND;TZID=America/Santiago:20240331T130000
DTSTAMP:20260423T184519
CREATED:20240322T204517Z
LAST-MODIFIED:20240322T204517Z
UID:55392-1711796400-1711890000@deportivoaleman.cl
SUMMARY:FROHE OSTERN | PINTA Y BUSQUEDA DE HUEVITOS
DESCRIPTION:
URL:https://deportivoaleman.cl/evento/frohe-ostern-pinta-y-busqueda-de-huevitos/
CATEGORIES:Corporativo
END:VEVENT
BEGIN:VEVENT
DTSTART;TZID=America/Santiago:20240412T090000
DTEND;TZID=America/Santiago:20240414T213000
DTSTAMP:20260423T184519
CREATED:20240404T171440Z
LAST-MODIFIED:20240404T171440Z
UID:55585-1712912400-1713130200@deportivoaleman.cl
SUMMARY:SKAT | PRIMER ENCUENTRO EN CONCEPCIÓN
DESCRIPTION:
URL:https://deportivoaleman.cl/evento/skat-primer-encuentro-en-concepcion/
CATEGORIES:Corporativo,Mundo Socios,Skat
END:VEVENT
BEGIN:VEVENT
DTSTART;TZID=America/Santiago:20240413T090000
DTEND;TZID=America/Santiago:20240413T130000
DTSTAMP:20260423T184519
CREATED:20240405T151834Z
LAST-MODIFIED:20240405T151834Z
UID:55616-1712998800-1713013200@deportivoaleman.cl
SUMMARY:EVENTO FITNESS | ¡CHAO VERANO! GAP\,ZUMBA\,SPINNING\,PILATES Y YOGA
DESCRIPTION:
URL:https://deportivoaleman.cl/evento/evento-fitness-chao-verano-gapzumbaspinningpilates-y-yoga/
END:VEVENT
BEGIN:VEVENT
DTSTART;TZID=America/Santiago:20240421T100000
DTEND;TZID=America/Santiago:20240421T130000
DTSTAMP:20260423T184519
CREATED:20240416T173304Z
LAST-MODIFIED:20240416T173304Z
UID:55718-1713693600-1713704400@deportivoaleman.cl
SUMMARY:WEISSWURSTFRÜHSTÜCK | DESAYUNO ALEMÁN EN BIERSTUBE
DESCRIPTION:
URL:https://deportivoaleman.cl/evento/weisswurstfruhstuck-desayuno-aleman-en-bierstube/
CATEGORIES:Corporativo,Mundo Socios
END:VEVENT
BEGIN:VEVENT
DTSTART;TZID=America/Santiago:20240425T140000
DTEND;TZID=America/Santiago:20240425T200000
DTSTAMP:20260423T184519
CREATED:20240425T160010Z
LAST-MODIFIED:20240425T160107Z
UID:55933-1714053600-1714075200@deportivoaleman.cl
SUMMARY:HOCKEY | CLINICA FEDERACIÓN CON SERGIO "CACHITO" VIGIL EN CDA
DESCRIPTION:
URL:https://deportivoaleman.cl/evento/hockey-clinica-federacion-con-sergio-cachito-vigil/
CATEGORIES:Hockey
END:VEVENT
BEGIN:VEVENT
DTSTART;TZID=America/Santiago:20240427T090000
DTEND;TZID=America/Santiago:20240427T170000
DTSTAMP:20260423T184519
CREATED:20240425T160232Z
LAST-MODIFIED:20240425T160232Z
UID:55936-1714208400-1714237200@deportivoaleman.cl
SUMMARY:VOLEIBOL | TORNEO ASOVOCO U17 EN CDA
DESCRIPTION:
URL:https://deportivoaleman.cl/evento/voleibol-torneo-asovoco-u17-en-cda/
CATEGORIES:Vóleibol
END:VEVENT
BEGIN:VEVENT
DTSTART;TZID=America/Santiago:20240427T170000
DTEND;TZID=America/Santiago:20240427T190000
DTSTAMP:20260423T184519
CREATED:20240425T160414Z
LAST-MODIFIED:20240425T160414Z
UID:55938-1714237200-1714244400@deportivoaleman.cl
SUMMARY:HOCKEY | TORNEO NACIONAL ALEMAN VS MANQUEHUE EN CDA
DESCRIPTION:
URL:https://deportivoaleman.cl/evento/hockey-torneo-nacional-aleman-vs-manquehue-en-cda/
CATEGORIES:Hockey
END:VEVENT
BEGIN:VEVENT
DTSTART;TZID=America/Santiago:20240428T110000
DTEND;TZID=America/Santiago:20240428T160000
DTSTAMP:20260423T184519
CREATED:20240425T161313Z
LAST-MODIFIED:20240425T161313Z
UID:55947-1714302000-1714320000@deportivoaleman.cl
SUMMARY:BÁSQUETBOL | LIGA BIO BIO - ALEMÁN VS JUVENIL CAÑETE EN CDA
DESCRIPTION:
URL:https://deportivoaleman.cl/evento/basquetbol-liga-bio-bio-aleman-vs-juvenil-canete-en-cda/
CATEGORIES:Básquetbol
END:VEVENT
BEGIN:VEVENT
DTSTART;TZID=America/Santiago:20240503T080000
DTEND;TZID=America/Santiago:20240505T190000
DTSTAMP:20260423T184519
CREATED:20240502T185902Z
LAST-MODIFIED:20240502T185910Z
UID:55977-1714723200-1714935600@deportivoaleman.cl
SUMMARY:REMO | CAMPEONATO HÉROES DE IQUIQUE EN LAGUNA CHICA
DESCRIPTION:
URL:https://deportivoaleman.cl/evento/remo-campeonato-heroes-de-iquique/
CATEGORIES:Remo
END:VEVENT
BEGIN:VEVENT
DTSTART;TZID=America/Santiago:20240504T090000
DTEND;TZID=America/Santiago:20240505T210000
DTSTAMP:20260423T184519
CREATED:20240502T191544Z
LAST-MODIFIED:20240502T191544Z
UID:55987-1714813200-1714942800@deportivoaleman.cl
SUMMARY:HOCKEY | TORNEO NACIONAL FRENTE A MANQUEHUE\, SPORT FRANCES Y PWCC
DESCRIPTION:
URL:https://deportivoaleman.cl/evento/hockey-torneo-nacional-frente-a-manquehue-sport-frances-y-pwcc/
CATEGORIES:Hockey
END:VEVENT
BEGIN:VEVENT
DTSTART;TZID=America/Santiago:20240504T110000
DTEND;TZID=America/Santiago:20240504T130000
DTSTAMP:20260423T184519
CREATED:20240502T191432Z
LAST-MODIFIED:20240502T192140Z
UID:55985-1714820400-1714827600@deportivoaleman.cl
SUMMARY:ADULTO MAYOR | EVENTO YOGA
DESCRIPTION:
URL:https://deportivoaleman.cl/evento/adulto-mayor-evento-yoga-en-gimnasio-castellon/
CATEGORIES:Acondicionamiento Físico Adulto Mayor,Corporativo,Fitness
END:VEVENT
BEGIN:VEVENT
DTSTART;TZID=America/Santiago:20240504T180000
DTEND;TZID=America/Santiago:20240504T200000
DTSTAMP:20260423T184519
CREATED:20240502T191720Z
LAST-MODIFIED:20240502T191720Z
UID:55989-1714845600-1714852800@deportivoaleman.cl
SUMMARY:BÁSQUETBOL | LIGA NACIONAL BÁSQUETBOL 2 - ALEMÁN VS MATTE LARRAIN
DESCRIPTION:
URL:https://deportivoaleman.cl/evento/basquetbol-liga-nacional-basquetbol-2-aleman-vs-matte-larrain/
CATEGORIES:Básquetbol
END:VEVENT
BEGIN:VEVENT
DTSTART;TZID=America/Santiago:20240505T170000
DTEND;TZID=America/Santiago:20240505T190000
DTSTAMP:20260423T184519
CREATED:20240502T192418Z
LAST-MODIFIED:20240502T192418Z
UID:55992-1714928400-1714935600@deportivoaleman.cl
SUMMARY:FÚTBOL | COPA BIO BIO FEMENINA - ALEMÁN VS EEFF
DESCRIPTION:
URL:https://deportivoaleman.cl/evento/futbol-copa-bio-bio-femenina-aleman-vs-eeff/
CATEGORIES:Fútbol
END:VEVENT
BEGIN:VEVENT
DTSTART;TZID=America/Santiago:20240509T200000
DTEND;TZID=America/Santiago:20240510T230000
DTSTAMP:20260423T184519
CREATED:20240509T172233Z
LAST-MODIFIED:20240509T172233Z
UID:56089-1715284800-1715382000@deportivoaleman.cl
SUMMARY:PÁDEL | TORNEO AMERICANO DAMAS Y VARONES
DESCRIPTION:
URL:https://deportivoaleman.cl/evento/padel-torneo-americano-damas-y-varones/
CATEGORIES:Pádel
END:VEVENT
BEGIN:VEVENT
DTSTART;TZID=America/Santiago:20240510T090000
DTEND;TZID=America/Santiago:20240510T180000
DTSTAMP:20260423T184519
CREATED:20240509T172451Z
LAST-MODIFIED:20240509T172451Z
UID:56092-1715331600-1715364000@deportivoaleman.cl
SUMMARY:BÁSQUETBOL | LIGA BIO BIO Y TORNEO PROMESAS DEL BIO BIO EN CDA
DESCRIPTION:
URL:https://deportivoaleman.cl/evento/basquetbol-liga-bio-bio-y-torneo-promesas-del-bio-bio-en-cda/
CATEGORIES:Básquetbol
END:VEVENT
BEGIN:VEVENT
DTSTART;TZID=America/Santiago:20240510T160000
DTEND;TZID=America/Santiago:20240510T230000
DTSTAMP:20260423T184519
CREATED:20240507T153305Z
LAST-MODIFIED:20240507T153305Z
UID:56012-1715356800-1715382000@deportivoaleman.cl
SUMMARY:MUTTERTAG | DÍA 1 FERIA DE EMPRENDIMIENTOS EN CLUBHAUS
DESCRIPTION:
URL:https://deportivoaleman.cl/evento/muttertag-dia-1-feria-de-emprendimientos-en-clubhaus/
CATEGORIES:Corporativo,Mundo Socios
END:VEVENT
BEGIN:VEVENT
DTSTART;TZID=America/Santiago:20240511T110000
DTEND;TZID=America/Santiago:20240511T230000
DTSTAMP:20260423T184519
CREATED:20240507T153346Z
LAST-MODIFIED:20240507T153346Z
UID:56014-1715425200-1715468400@deportivoaleman.cl
SUMMARY:MUTTERTAG | DÍA 2 FERIA DE EMPRENDIMIENTOS EN CLUBHAUS
DESCRIPTION:
URL:https://deportivoaleman.cl/evento/muttertag-dia-2-feria-de-emprendimientos-en-clubhaus/
CATEGORIES:Corporativo,Mundo Socios
END:VEVENT
BEGIN:VEVENT
DTSTART;TZID=America/Santiago:20240512T080000
DTEND;TZID=America/Santiago:20240512T180000
DTSTAMP:20260423T184519
CREATED:20240507T152941Z
LAST-MODIFIED:20240507T153033Z
UID:56010-1715500800-1715536800@deportivoaleman.cl
SUMMARY:BIERSTUBE | ALMUERZO DÍA DE LA MADRE
DESCRIPTION:
URL:https://deportivoaleman.cl/evento/bierstube-almuerzo-dia-de-la-madre/
CATEGORIES:Corporativo,Mundo Socios
END:VEVENT
END:VCALENDAR