BEGIN:VCALENDAR
VERSION:2.0
PRODID:-//Club Deportivo Alemán - ECPv6.15.20//NONSGML v1.0//EN
CALSCALE:GREGORIAN
METHOD:PUBLISH
X-WR-CALNAME:Club Deportivo Alemán
X-ORIGINAL-URL:https://deportivoaleman.cl
X-WR-CALDESC:Eventos para Club Deportivo Alemán
REFRESH-INTERVAL;VALUE=DURATION:PT1H
X-Robots-Tag:noindex
X-PUBLISHED-TTL:PT1H
BEGIN:VTIMEZONE
TZID:America/Santiago
BEGIN:STANDARD
TZOFFSETFROM:-0300
TZOFFSETTO:-0400
TZNAME:-04
DTSTART:20220403T030000
END:STANDARD
BEGIN:DAYLIGHT
TZOFFSETFROM:-0400
TZOFFSETTO:-0300
TZNAME:-03
DTSTART:20220904T040000
END:DAYLIGHT
BEGIN:STANDARD
TZOFFSETFROM:-0300
TZOFFSETTO:-0400
TZNAME:-04
DTSTART:20230402T030000
END:STANDARD
BEGIN:DAYLIGHT
TZOFFSETFROM:-0400
TZOFFSETTO:-0300
TZNAME:-03
DTSTART:20230903T040000
END:DAYLIGHT
BEGIN:STANDARD
TZOFFSETFROM:-0300
TZOFFSETTO:-0400
TZNAME:-04
DTSTART:20240407T030000
END:STANDARD
BEGIN:DAYLIGHT
TZOFFSETFROM:-0400
TZOFFSETTO:-0300
TZNAME:-03
DTSTART:20240908T040000
END:DAYLIGHT
END:VTIMEZONE
BEGIN:VEVENT
DTSTART;TZID=America/Santiago:20230609T170000
DTEND;TZID=America/Santiago:20230609T210000
DTSTAMP:20260424T082610
CREATED:20230607T201449Z
LAST-MODIFIED:20230607T201458Z
UID:50012-1686330000-1686344400@deportivoaleman.cl
SUMMARY:HOCKEY CDA | AMISTOSO EN CCC
DESCRIPTION:
URL:https://deportivoaleman.cl/evento/hockey-amistoso-en-ccc/
CATEGORIES:Hockey
END:VEVENT
BEGIN:VEVENT
DTSTART;TZID=America/Santiago:20230610T080000
DTEND;TZID=America/Santiago:20230610T200000
DTSTAMP:20260424T082610
CREATED:20230607T223049Z
LAST-MODIFIED:20230607T223049Z
UID:50039-1686384000-1686427200@deportivoaleman.cl
SUMMARY:HOCKEY CDA | FINAL LIGA BIO BIO EN CDA
DESCRIPTION:
URL:https://deportivoaleman.cl/evento/hockey-cda-final-liga-bio-bio-en-cda/
CATEGORIES:Hockey
END:VEVENT
BEGIN:VEVENT
DTSTART;TZID=America/Santiago:20230610T090000
DTEND;TZID=America/Santiago:20230610T170000
DTSTAMP:20260424T082610
CREATED:20230607T223612Z
LAST-MODIFIED:20230607T223612Z
UID:50046-1686387600-1686416400@deportivoaleman.cl
SUMMARY:G. RÍTMICA | CAMPEONATO PRIMEROS PASOS EN CDH
DESCRIPTION:
URL:https://deportivoaleman.cl/evento/g-ritmica-campeonato-primeros-pasos-en-cdh/
CATEGORIES:Gimnasia Rítmica
END:VEVENT
BEGIN:VEVENT
DTSTART;TZID=America/Santiago:20230616T080000
DTEND;TZID=America/Santiago:20230618T170000
DTSTAMP:20260424T082610
CREATED:20230612T143947Z
LAST-MODIFIED:20230612T150512Z
UID:50375-1686902400-1687107600@deportivoaleman.cl
SUMMARY:TENIS |  TORNEO GRADO 2 EN ESTADIO ESPAÑOL CHIGUAYANTE
DESCRIPTION:
URL:https://deportivoaleman.cl/evento/tenis-cda-torneo-grado-2-en-estadio-espanol-chiguayante/
LOCATION:Estadio Español Chiguayante\, O'Higgins 699\, Chiguayante\, Concepción\, Concepción\, 4100000\, Chile
CATEGORIES:Tenis
END:VEVENT
BEGIN:VEVENT
DTSTART;TZID=America/Santiago:20230616T180000
DTEND;TZID=America/Santiago:20230616T220000
DTSTAMP:20260424T082610
CREATED:20230615T152415Z
LAST-MODIFIED:20230615T152415Z
UID:50462-1686938400-1686952800@deportivoaleman.cl
SUMMARY:PÁDEL | TORNEO AMERICANO PAREJAS MIXTAS
DESCRIPTION:
URL:https://deportivoaleman.cl/evento/padel-torneo-americano-parejas-mixtas/
LOCATION:Polideportivo Club Deportivo Alemán Concepción\, El Venado 715\, Andalue\, Concepción\, Concepción\, 4030000\, Chile
CATEGORIES:Pádel
END:VEVENT
BEGIN:VEVENT
DTSTART;VALUE=DATE:20230617
DTEND;VALUE=DATE:20230619
DTSTAMP:20260424T082610
CREATED:20230617T223645Z
LAST-MODIFIED:20230617T223754Z
UID:50554-1686960000-1687132799@deportivoaleman.cl
SUMMARY:APERTURA DIE KNEIPE 9 | NUEVO PUB PARA SOCIOS Y DEPORTISTAS EN ANTIGUA CABAÑA 9
DESCRIPTION:
URL:https://deportivoaleman.cl/evento/apertura-die-kneipe-9-nuevo-pub-para-socios-y-deportistas-en-antigua-cabana-9/
CATEGORIES:Corporativo
END:VEVENT
BEGIN:VEVENT
DTSTART;TZID=America/Santiago:20230617T093000
DTEND;TZID=America/Santiago:20230617T130000
DTSTAMP:20260424T082610
CREATED:20230612T151403Z
LAST-MODIFIED:20230612T151403Z
UID:50386-1686994200-1687006800@deportivoaleman.cl
SUMMARY:TAEKWONDO | EXÁMEN DE GRADO EN CDA
DESCRIPTION:
URL:https://deportivoaleman.cl/evento/taekwondo-examen-de-grado-en-cda/
LOCATION:Gimnasio Castellón\, Club Deportivo Alemán\, El Venado 715\, Andalue\, Concepción\, Concepción\, 4030000\, Chile
CATEGORIES:Taekwondo
END:VEVENT
BEGIN:VEVENT
DTSTART;TZID=America/Santiago:20230617T140000
DTEND;TZID=America/Santiago:20230617T220000
DTSTAMP:20260424T082610
CREATED:20230615T152701Z
LAST-MODIFIED:20230615T152701Z
UID:50464-1687010400-1687039200@deportivoaleman.cl
SUMMARY:BÁSQUETBOL | LIGA BIO BIO Y LIGA DESARROLLO
DESCRIPTION:
URL:https://deportivoaleman.cl/evento/basquetbol-liga-bio-bio-y-liga-desarrollo/
LOCATION:Polideportivo Club Deportivo Alemán Concepción\, El Venado 715\, Andalue\, Concepción\, Concepción\, 4030000\, Chile
CATEGORIES:Básquetbol
END:VEVENT
BEGIN:VEVENT
DTSTART;TZID=America/Santiago:20230617T160000
DTEND;TZID=America/Santiago:20230617T200000
DTSTAMP:20260424T082610
CREATED:20230615T152859Z
LAST-MODIFIED:20230615T152859Z
UID:50466-1687017600-1687032000@deportivoaleman.cl
SUMMARY:FÚTBOL | COPA INTEGRACIÓN
DESCRIPTION:
URL:https://deportivoaleman.cl/evento/futbol-copa-integracion/
LOCATION:Polideportivo Club Deportivo Alemán Concepción\, El Venado 715\, Andalue\, Concepción\, Concepción\, 4030000\, Chile
CATEGORIES:Fútbol
END:VEVENT
BEGIN:VEVENT
DTSTART;TZID=America/Santiago:20230620T180000
DTEND;TZID=America/Santiago:20230620T233000
DTSTAMP:20260424T082610
CREATED:20230619T231135Z
LAST-MODIFIED:20230619T231241Z
UID:50600-1687284000-1687303800@deportivoaleman.cl
SUMMARY:DIE KNEIPE 9 | PARTIDO CHILE VS BOLIVIA + KARAOKE Y MÚSICA EN VIVO
DESCRIPTION:
URL:https://deportivoaleman.cl/evento/die-kneipe-9-partido-chile-vs-bolivia-karaoke-y-musica-en-vivo/
CATEGORIES:Corporativo
END:VEVENT
BEGIN:VEVENT
DTSTART;TZID=America/Santiago:20230622T180000
DTEND;TZID=America/Santiago:20230624T233000
DTSTAMP:20260424T082610
CREATED:20230622T164541Z
LAST-MODIFIED:20230622T164541Z
UID:50664-1687456800-1687649400@deportivoaleman.cl
SUMMARY:DIE KNEIPE 9 | DISFRUTA DEL TERCER TIEMPO EN NUESTRA CABAÑA 9
DESCRIPTION:
URL:https://deportivoaleman.cl/evento/die-kneipe-9-disfruta-del-tercer-tiempo-en-nuestra-cabana-9/
LOCATION:Polideportivo Club Deportivo Alemán Concepción\, El Venado 715\, Andalue\, Concepción\, Concepción\, 4030000\, Chile
CATEGORIES:Corporativo
END:VEVENT
BEGIN:VEVENT
DTSTART;TZID=America/Santiago:20230623T190000
DTEND;TZID=America/Santiago:20230623T200000
DTSTAMP:20260424T082610
CREATED:20230620T151303Z
LAST-MODIFIED:20230620T151423Z
UID:50602-1687546800-1687550400@deportivoaleman.cl
SUMMARY:BALLET | GALA PRIMER SEMESTRE EN CDA
DESCRIPTION:
URL:https://deportivoaleman.cl/evento/ballet-gala-primer-semestre/
CATEGORIES:Ballet
END:VEVENT
BEGIN:VEVENT
DTSTART;TZID=America/Santiago:20230630T080000
DTEND;TZID=America/Santiago:20230701T170000
DTSTAMP:20260424T082610
CREATED:20230629T193011Z
LAST-MODIFIED:20230629T193011Z
UID:50747-1688112000-1688230800@deportivoaleman.cl
SUMMARY:4TA FECHA LGC PÁDEL EN CDA
DESCRIPTION:
URL:https://deportivoaleman.cl/evento/4ta-fecha-lgc-padel-en-cda/
LOCATION:Polideportivo Club Deportivo Alemán Concepción\, El Venado 715\, Andalue\, Concepción\, Concepción\, 4030000\, Chile
CATEGORIES:Pádel
END:VEVENT
BEGIN:VEVENT
DTSTART;TZID=America/Santiago:20230630T080000
DTEND;TZID=America/Santiago:20230702T220000
DTSTAMP:20260424T082610
CREATED:20230619T175821Z
LAST-MODIFIED:20230619T230908Z
UID:50592-1688112000-1688335200@deportivoaleman.cl
SUMMARY:G. ARTÍSTICA | XVIII TORNEO ALEMAN EN CDA
DESCRIPTION:
URL:https://deportivoaleman.cl/evento/g-artistica-xviii-torneo-g-artistica-en-cda/
LOCATION:Polideportivo Club Deportivo Alemán Concepción\, El Venado 715\, Andalue\, Concepción\, Concepción\, 4030000\, Chile
CATEGORIES:Gimnasia Artística
END:VEVENT
BEGIN:VEVENT
DTSTART;TZID=America/Santiago:20230630T180000
DTEND;TZID=America/Santiago:20230630T233000
DTSTAMP:20260424T082610
CREATED:20230629T194017Z
LAST-MODIFIED:20230629T194017Z
UID:50752-1688148000-1688167800@deportivoaleman.cl
SUMMARY:DIE KNEIPE 9 | KARAOKE Y MÚSICA EN VIVO EN CABAÑA 9
DESCRIPTION:
URL:https://deportivoaleman.cl/evento/die-kneipe-9-karaoke-y-musica-en-vivo-en-cabana-9/
LOCATION:Polideportivo Club Deportivo Alemán Concepción\, El Venado 715\, Andalue\, Concepción\, Concepción\, 4030000\, Chile
CATEGORIES:Corporativo
END:VEVENT
BEGIN:VEVENT
DTSTART;TZID=America/Santiago:20230706T203000
DTEND;TZID=America/Santiago:20230706T220000
DTSTAMP:20260424T082610
CREATED:20230705T212142Z
LAST-MODIFIED:20230705T212142Z
UID:50910-1688675400-1688680800@deportivoaleman.cl
SUMMARY:HOCKEY VARONES AD - ALEMÁN VS CCC EN CDA
DESCRIPTION:
URL:https://deportivoaleman.cl/evento/hockey-varones-ad-aleman-vs-ccc-en-cda/
LOCATION:Polideportivo Club Deportivo Alemán Concepción\, El Venado 715\, Andalue\, Concepción\, Concepción\, 4030000\, Chile
CATEGORIES:Hockey
END:VEVENT
BEGIN:VEVENT
DTSTART;TZID=America/Santiago:20230707T080000
DTEND;TZID=America/Santiago:20230711T170000
DTSTAMP:20260424T082610
CREATED:20230619T180052Z
LAST-MODIFIED:20230620T151408Z
UID:50594-1688716800-1689094800@deportivoaleman.cl
SUMMARY:BÁSQUETBOL | COPA ALEMANIA MENORES EN CDA
DESCRIPTION:
URL:https://deportivoaleman.cl/evento/basquetbol-copa-alemania-menores-2023/
LOCATION:Polideportivo Club Deportivo Alemán Concepción\, El Venado 715\, Andalue\, Concepción\, Concepción\, 4030000\, Chile
CATEGORIES:Básquetbol
END:VEVENT
BEGIN:VEVENT
DTSTART;TZID=America/Santiago:20230709T090000
DTEND;TZID=America/Santiago:20230709T110000
DTSTAMP:20260424T082610
CREATED:20230705T233624Z
LAST-MODIFIED:20230705T233755Z
UID:50914-1688893200-1688900400@deportivoaleman.cl
SUMMARY:FÚTBOL FEMEMINO | TORNEO PROVINCIA CONCEPCIÓN EN CDA
DESCRIPTION:
URL:https://deportivoaleman.cl/evento/futbol-fememino-torneo-provincia-concepcion/
LOCATION:Polideportivo Club Deportivo Alemán Concepción\, El Venado 715\, Andalue\, Concepción\, Concepción\, 4030000\, Chile
CATEGORIES:Fútbol
END:VEVENT
BEGIN:VEVENT
DTSTART;TZID=America/Santiago:20230709T113000
DTEND;TZID=America/Santiago:20230709T130000
DTSTAMP:20260424T082610
CREATED:20230705T212452Z
LAST-MODIFIED:20230705T212452Z
UID:50912-1688902200-1688907600@deportivoaleman.cl
SUMMARY:HOCKEY DAMAS - ALEMÁN VS PWCC EN CDA
DESCRIPTION:
URL:https://deportivoaleman.cl/evento/hockey-damas-aleman-vs-pwcc-en-cda/
LOCATION:Polideportivo Club Deportivo Alemán Concepción\, El Venado 715\, Andalue\, Concepción\, Concepción\, 4030000\, Chile
CATEGORIES:Hockey
END:VEVENT
BEGIN:VEVENT
DTSTART;VALUE=DATE:20230712
DTEND;VALUE=DATE:20230713
DTSTAMP:20260424T082610
CREATED:20230709T230659Z
LAST-MODIFIED:20230709T230735Z
UID:51012-1689120000-1689206399@deportivoaleman.cl
SUMMARY:TÉRMINO PRIMER SEMESTRE
DESCRIPTION:
URL:https://deportivoaleman.cl/evento/termino-primer-semestre/
LOCATION:Polideportivo Club Deportivo Alemán Concepción\, El Venado 715\, Andalue\, Concepción\, Concepción\, 4030000\, Chile
CATEGORIES:Ballet,Básquetbol,Corporativo,Fútbol,Gimnasia Artística,Gimnasia Rítmica,Handball,Hockey,Iniciación deportiva,Pádel,Psicomotricidad y Escuela de Talentos,Ramas,Remo,Taekwondo,Talleres,Tenis,Vóleibol
END:VEVENT
BEGIN:VEVENT
DTSTART;VALUE=DATE:20230717
DTEND;VALUE=DATE:20230718
DTSTAMP:20260424T082610
CREATED:20230709T230857Z
LAST-MODIFIED:20230709T230857Z
UID:51015-1689552000-1689638399@deportivoaleman.cl
SUMMARY:INICIO SEGUNDO SEMESTRE
DESCRIPTION:
URL:https://deportivoaleman.cl/evento/inicio-segundo-semestre/
LOCATION:Polideportivo Club Deportivo Alemán Concepción\, El Venado 715\, Andalue\, Concepción\, Concepción\, 4030000\, Chile
CATEGORIES:Ballet,Básquetbol,Corporativo,Fútbol,Gimnasia Artística,Gimnasia Rítmica,Handball,Hockey,Iniciación deportiva,Pádel,Psicomotricidad y Escuela de Talentos,Ramas,Remo,Taekwondo,Talleres,Tenis,Vóleibol
END:VEVENT
BEGIN:VEVENT
DTSTART;TZID=America/Santiago:20230722T100000
DTEND;TZID=America/Santiago:20230722T140000
DTSTAMP:20260424T082610
CREATED:20230719T233223Z
LAST-MODIFIED:20230719T233223Z
UID:51135-1690020000-1690034400@deportivoaleman.cl
SUMMARY:FÚTBOL | COPA INTEGRACIÓN EN WESSEX SCHOOL
DESCRIPTION:
URL:https://deportivoaleman.cl/evento/futbol-copa-integracion-en-wessex-school/
CATEGORIES:Fútbol
END:VEVENT
BEGIN:VEVENT
DTSTART;TZID=America/Santiago:20230722T180000
DTEND;TZID=America/Santiago:20230722T200000
DTSTAMP:20260424T082610
CREATED:20230719T233943Z
LAST-MODIFIED:20230719T233943Z
UID:51139-1690048800-1690056000@deportivoaleman.cl
SUMMARY:BÁSQUETBOL | LIGA DESARROLLO - ALEMÁN VS ESPAÑOL TALCA EN CDA
DESCRIPTION:
URL:https://deportivoaleman.cl/evento/basquetbol-liga-desarrollo-aleman-vs-espanol-talca-en-cda/
LOCATION:Polideportivo Club Deportivo Alemán Concepción\, El Venado 715\, Andalue\, Concepción\, Concepción\, 4030000\, Chile
CATEGORIES:Básquetbol
END:VEVENT
BEGIN:VEVENT
DTSTART;TZID=America/Santiago:20230723T100000
DTEND;TZID=America/Santiago:20230723T120000
DTSTAMP:20260424T082610
CREATED:20230719T233526Z
LAST-MODIFIED:20230719T233526Z
UID:51137-1690106400-1690113600@deportivoaleman.cl
SUMMARY:FÚTBOL FEMENINO | COPA PROVINCIA CCP EN CDA
DESCRIPTION:
URL:https://deportivoaleman.cl/evento/futbol-femenino-copa-provincia-ccp-en-cda/
CATEGORIES:Fútbol
END:VEVENT
BEGIN:VEVENT
DTSTART;VALUE=DATE:20230729
DTEND;VALUE=DATE:20230730
DTSTAMP:20260424T082610
CREATED:20230727T191915Z
LAST-MODIFIED:20230727T191915Z
UID:51239-1690588800-1690675199@deportivoaleman.cl
SUMMARY:FÚTBOL | COPA INTEGRACIÓN EN ARAUCO
DESCRIPTION:
URL:https://deportivoaleman.cl/evento/futbol-copa-integracion-en-arauco/
CATEGORIES:Fútbol
END:VEVENT
BEGIN:VEVENT
DTSTART;VALUE=DATE:20230729
DTEND;VALUE=DATE:20230731
DTSTAMP:20260424T082610
CREATED:20230724T215457Z
LAST-MODIFIED:20230724T215457Z
UID:51206-1690588800-1690761599@deportivoaleman.cl
SUMMARY:HOCKEY DAMAS | TORNEO NACIONAL EN SANTIAGO Y VIÑA DEL MAR
DESCRIPTION:
URL:https://deportivoaleman.cl/evento/hockey-damas-torneo-nacional-en-santiago-y-vina-del-mar/
CATEGORIES:Hockey
END:VEVENT
BEGIN:VEVENT
DTSTART;VALUE=DATE:20230729
DTEND;VALUE=DATE:20230731
DTSTAMP:20260424T082610
CREATED:20230724T215941Z
LAST-MODIFIED:20230724T215941Z
UID:51208-1690588800-1690761599@deportivoaleman.cl
SUMMARY:G.ARTÍTICA | CAMPEONATO ZONAL FORMATIVO EN SANTA CRUZ - MAULE
DESCRIPTION:
URL:https://deportivoaleman.cl/evento/g-artitica-campeonato-zonal-formativo-en-santa-cruz-maule/
CATEGORIES:Gimnasia Artística
END:VEVENT
BEGIN:VEVENT
DTSTART;TZID=America/Santiago:20230729T110000
DTEND;TZID=America/Santiago:20230729T210000
DTSTAMP:20260424T082610
CREATED:20230724T222643Z
LAST-MODIFIED:20230724T222815Z
UID:51210-1690628400-1690664400@deportivoaleman.cl
SUMMARY:BÁSQUETBOL | ELIMINATORIA REGIONAL DE ZONAL NACIONAL FEDERADO EN CDA
DESCRIPTION:
URL:https://deportivoaleman.cl/evento/basquetbol-eliminatoria-regional-de-zonal-nacional-federado-en-cda/
LOCATION:Polideportivo Club Deportivo Alemán Concepción\, El Venado 715\, Andalue\, Concepción\, Concepción\, 4030000\, Chile
CATEGORIES:Básquetbol
END:VEVENT
BEGIN:VEVENT
DTSTART;TZID=America/Santiago:20230730T090000
DTEND;TZID=America/Santiago:20230730T110000
DTSTAMP:20260424T082610
CREATED:20230727T191154Z
LAST-MODIFIED:20230727T191154Z
UID:51237-1690707600-1690714800@deportivoaleman.cl
SUMMARY:REMO | REGIONAL REMOERGÓMETRO EN CDA
DESCRIPTION:
URL:https://deportivoaleman.cl/evento/remo-regional-remoergometro-en-cda/
LOCATION:Polideportivo Club Deportivo Alemán Concepción\, El Venado 715\, Andalue\, Concepción\, Concepción\, 4030000\, Chile
CATEGORIES:Remo
END:VEVENT
BEGIN:VEVENT
DTSTART;VALUE=DATE:20230804
DTEND;VALUE=DATE:20230807
DTSTAMP:20260424T082610
CREATED:20230801T220328Z
LAST-MODIFIED:20230801T220328Z
UID:51329-1691107200-1691366399@deportivoaleman.cl
SUMMARY:TENIS | TORNEO ESCOLAR FEDERADO EN CDA
DESCRIPTION:
URL:https://deportivoaleman.cl/evento/tenis-torneo-escolar-federado-en-cda/
LOCATION:Polideportivo Club Deportivo Alemán Concepción\, El Venado 715\, Andalue\, Concepción\, Concepción\, 4030000\, Chile
CATEGORIES:Tenis
END:VEVENT
END:VCALENDAR